BEGIN:VCALENDAR
VERSION:2.0
PRODID:-//ChamberMaster//Event Calendar 2.0//EN
METHOD:PUBLISH
X-PUBLISHED-TTL:P3D
REFRESH-INTERVAL:P3D
CALSCALE:GREGORIAN
BEGIN:VEVENT
DTSTART:20250810T210000Z
DTEND:20250810T230000Z
X-MICROSOFT-CDO-ALLDAYEVENT:FALSE
SUMMARY:The Stan Strickland Jazz Quartet
DESCRIPTION:Through the collective memory of Afro-Asian jazz and blues\, Stan's quartet featuring:\n\nRussell Hoffman\, Max Ridley and Lumanyano Mzi\, will lead the audience on a\n\nSonic Vision Quest of fun and contemplation.\n\nStan Strickland:  " We are vibrational beings.\n\nOur bodies and minds are the sounding boards of our lives.\n\nThe practice of sound and music making are the natural way to align our bodies and settle our minds."
X-ALT-DESC;FMTTYPE=text/html:<p><span style="font-family:times new roman\,serif\; font-size:16pt">Through the collective memory of Afro-Asian jazz and blues\, Stan&rsquo\;s quartet featuring:</span><br />\n<span style="font-family:times new roman\,serif\; font-size:16pt">Russell Hoffman\, Max Ridley and Lumanyano Mzi\, will lead the audience on a</span><br />\n<span style="font-family:times new roman\,serif\; font-size:16pt">Sonic Vision Quest of fun and contemplation.</span></p>\n\n<p><span style="font-family:times new roman\,serif\; font-size:16pt">Stan Strickland:&nbsp\; &rdquo\; We are vibrational beings.</span><br />\n<span style="font-family:times new roman\,serif\; font-size:16pt">Our bodies and minds are the sounding boards of our lives.</span><br />\n<span style="font-family:times new roman\,serif\; font-size:16pt">The practice of sound and music making are the natural way to align our bodies and settle our minds.&rdquo\;</span></p>\n
LOCATION:Windhover Center for the Performing Arts 257 Rear Granite Street\, Rockport MA
UID:e.2981.37453
SEQUENCE:3
DTSTAMP:20260424T235206Z
URL:https://business.capeannchamber.com/events/details/the-stan-strickland-jazz-quartet-37453
END:VEVENT

END:VCALENDAR
