BEGIN:VCALENDAR
VERSION:2.0
PRODID:-//ChamberMaster//Event Calendar 2.0//EN
METHOD:PUBLISH
X-PUBLISHED-TTL:P3D
REFRESH-INTERVAL:P3D
CALSCALE:GREGORIAN
BEGIN:VEVENT
DTSTART:20250828T230000Z
DTEND:20250829T010000Z
X-MICROSOFT-CDO-ALLDAYEVENT:FALSE
SUMMARY:The Sound of Memory
DESCRIPTION:The Sound of Memory\, an evening of choreographic and musical meditations on time\, loss\, and the fragile beauty and wonder of life. Featuring dances created and performed by former lead dancer with the Paul Taylor Company\, Annmaria Mazzini\, along with Jennifer Chin\, Jennifer Mabus\, Brynt Beitman\, and Amanda Stevenson. Music created and performed by Paula Jeanine Bennett and Brittani Nearing. Lighting Design by Bridget Welty. Performed at The Windhover Center for the Arts\; Thursday\, August 28 and Friday\, August 29\, 7 PM. A brief discussion and question and answer session with the artists will take place immediately following the performance.\n \n\nAnnmaria Mazzini curates an evening of choreographic and musical meditations about the passage of time\, caregiving\, loss\, and moving through life with a sense of awe. Featuring the collective works of a small company of dancers and musicians renowned for their capacity to provoke thought and generate healing\, 'The Sound of Memory' explores questions of where in the body memory resides\, what haunts us\, and what sustains us.
X-ALT-DESC;FMTTYPE=text/html:<p><span style="color:rgb(0\, 0\, 0)"><span style="background-color:transparent\; font-family:arial\,sans-serif\; font-size:11pt">The Sound of Memory\, an evening of choreographic and musical meditations on time\, loss\, and the fragile beauty and wonder of life. Featuring dances created and performed by former lead dancer with the Paul Taylor Company\, Annmaria Mazzini\, along with Jennifer Chin\, Jennifer Mabus\, Brynt Beitman\, and Amanda Stevenson. Music created and performed by Paula Jeanine Bennett and Brittani Nearing. Lighting Design by Bridget Welty. Performed at The Windhover Center for the Arts\; Thursday\, August 28 and Friday\, August 29\, 7 PM. A brief discussion and question and answer session with the artists will take place immediately following the performance.</span></span></p>\n&nbsp\;\n\n<p><span style="color:rgb(0\, 0\, 0)"><span style="background-color:transparent\; font-family:arial\,sans-serif\; font-size:11pt">Annmaria Mazzini curates an evening of choreographic and musical meditations about the passage of time\, caregiving\, loss\, and moving through life with a sense of awe. Featuring the collective works of a small company of dancers and musicians renowned for their capacity to provoke thought and generate healing\, &#39\;The Sound of Memory&#39\; explores questions of where in the body memory resides\, what haunts us\, and what sustains us.</span></span></p>\n
LOCATION:Windhover Center for the Performing Arts 257 Rear Granite Street\, Rockport\, Ma. 01966
UID:e.2981.41369
SEQUENCE:3
DTSTAMP:20260424T235206Z
URL:https://business.capeannchamber.com/events/details/the-sound-of-memory-41369
END:VEVENT

END:VCALENDAR
