BEGIN:VCALENDAR
VERSION:2.0
PRODID:-//ChamberMaster//Event Calendar 2.0//EN
METHOD:PUBLISH
X-PUBLISHED-TTL:P3D
REFRESH-INTERVAL:P3D
CALSCALE:GREGORIAN
BEGIN:VEVENT
DTSTART:20250712T160000Z
DTEND:20250712T230000Z
X-MICROSOFT-CDO-ALLDAYEVENT:FALSE
SUMMARY:The Shape of Things\, Juried by Adria Arch
DESCRIPTION:The Shape of Things\, juried by Adria Arch\, features 17 artists from the greater Boston region. The 47 pieces in the exhibition include paintings\, mixed media\, sculpture and video\, all of which utilize the fundamental design element of shape as a defining component of the work. View and Shop the exhibit online HERE\n\n\n\nFeatured Artists:\n\nMary Bablitch\, Steven Cabral\, Cyrille Conan\, Monica DeSalvo\, Carin Doben\, Barbe Ennis\, Bette Frank Leahy\, Roberta Nigro Hall\, Nancy Harrod\, L.Marie Lamarche\, Ellen Liner\, David McCoy\, Laura Menucci\, Kimberly Quint\, Allison Tanenhaus\, Amantha Tsaros\, and Leslie Zelamsky
X-ALT-DESC;FMTTYPE=text/html:<em>The Shape of Things</em>\, juried by <a href="https://www.adriaarch.com/about" target="_blank">Adria Arch</a>\, features 17 artists from the greater Boston region. The 47 pieces in the exhibition include paintings\, mixed media\, sculpture and video\, all of which utilize the fundamental design element of shape as a defining component of the work.&nbsp\;View and Shop the exhibit online&nbsp\;<a href="https://www.rnacexhibitions.com/" target="_blank">HERE</a><br />\n<br />\n<strong>Featured Artists:</strong><br />\nMary Bablitch\, Steven Cabral\, Cyrille Conan\, Monica DeSalvo\, Carin Doben\, Barbe Ennis\, Bette Frank Leahy\, Roberta Nigro Hall\, Nancy Harrod\, L.Marie Lamarche\, Ellen Liner\, David McCoy\, Laura Menucci\, Kimberly Quint\, Allison Tanenhaus\, Amantha Tsaros\, and Leslie Zelamsky
LOCATION:The Cultural Center at Rocky Neck 6 Wonson Street\, Gloucester\, MA
UID:e.2981.37420
SEQUENCE:3
DTSTAMP:20260425T212333Z
URL:https://business.capeannchamber.com/events/details/the-shape-of-things-juried-by-adria-arch-07-12-2025-37420
END:VEVENT

END:VCALENDAR
