BEGIN:VCALENDAR
VERSION:2.0
PRODID:-//ChamberMaster//Event Calendar 2.0//EN
METHOD:PUBLISH
X-PUBLISHED-TTL:P3D
REFRESH-INTERVAL:P3D
CALSCALE:GREGORIAN
BEGIN:VEVENT
DTSTART:20241214T170000Z
DTEND:20241214T220000Z
X-MICROSOFT-CDO-ALLDAYEVENT:FALSE
SUMMARY:The Rocky Neck Holiday Art Trek
DESCRIPTION:From vibrant paintings and sculptures to intricate ceramics and handcrafted jewelry\, the Rocky Neck Holiday Trek offers a diverse array of one-of-a-kind treasures perfect for last-minute Christmas gifts. Whether you're seeking a thoughtful present or treating yourself\, the Holiday Trek invites you to discover the joy of locally crafted gifts amidst the creative energy of the Rocky Neck Art Colony.
X-ALT-DESC;FMTTYPE=text/html:<div style="background:50% center / cover no-repeat transparent\; border:0px\; padding:27px 0px">\n<div style="background:50% center / cover no-repeat transparent\; border:0px\; margin-left:0px\; margin-right:0px !important\; padding:0px">\n<div style="background:50% center / cover no-repeat transparent\; border:0px\; padding:0px">\n<div style="background:transparent\; border:0px\; padding:0px">\n<div style="background:50% center / cover no-repeat transparent\; border:0px\; padding:0px">\n<div style="background:transparent\; border:0px\; padding:0px">\n<p>From vibrant paintings and sculptures to intricate ceramics and handcrafted jewelry\, the Rocky Neck Holiday Trek offers a diverse array of one-of-a-kind treasures perfect for last-minute Christmas gifts. Whether you&rsquo\;re seeking a thoughtful present or treating yourself\, the Holiday Trek invites you to discover the joy of locally crafted gifts amidst the creative energy of the Rocky Neck Art Colony.</p>\n</div>\n</div>\n</div>\n</div>\n</div>\n</div>\n\n<div style="background:50% center / cover no-repeat transparent\; border:0px\; padding:27px 0px">\n<div style="background:50% center / cover no-repeat transparent\; border:0px\; margin-left:0px\; margin-right:0px !important\; padding:0px">&nbsp\;</div>\n</div>\n
LOCATION:Rocky Neck
UID:e.2981.34112
SEQUENCE:3
DTSTAMP:20260424T140540Z
URL:https://business.capeannchamber.com/events/details/the-rocky-neck-holiday-art-trek-34112
END:VEVENT

END:VCALENDAR
