BEGIN:VCALENDAR
VERSION:2.0
PRODID:-//ChamberMaster//Event Calendar 2.0//EN
METHOD:PUBLISH
X-PUBLISHED-TTL:P3D
REFRESH-INTERVAL:P3D
CALSCALE:GREGORIAN
BEGIN:VEVENT
DTSTART:20241219T000000Z
DTEND:20241219T030000Z
X-MICROSOFT-CDO-ALLDAYEVENT:FALSE
SUMMARY:The Reverie Sessions Presents: The Cutup: Open Mic Comedy Night with host Billy Baker
DESCRIPTION:Open mic comedy night at the Cut! Come perform\, come watch and come laugh!\n\n21+ / $5 cover at the door
X-ALT-DESC;FMTTYPE=text/html:<p>Open mic comedy night at the Cut! Come perform\, come watch and come laugh!</p>\n\n<p>21+ / $5 cover at the door</p>\n
LOCATION:The Cut 177 Main Street Gloucester\, MA 01930
UID:e.2981.34108
SEQUENCE:3
DTSTAMP:20260424T152715Z
URL:https://business.capeannchamber.com/events/details/the-reverie-sessions-presents-the-cutup-open-mic-comedy-night-with-host-billy-baker-34108
END:VEVENT

END:VCALENDAR
