BEGIN:VCALENDAR
VERSION:2.0
PRODID:-//ChamberMaster//Event Calendar 2.0//EN
METHOD:PUBLISH
X-PUBLISHED-TTL:P3D
REFRESH-INTERVAL:P3D
CALSCALE:GREGORIAN
BEGIN:VEVENT
DTSTART:20250824T220000Z
DTEND:20250824T230000Z
X-MICROSOFT-CDO-ALLDAYEVENT:FALSE
SUMMARY:The Rasa String Quartet Reimagines Taylor Swift & Queen
DESCRIPTION:Within the near-perfect acoustics of the Great Hall at Hammond Castle Museum\, two musical icons are reborn through the artistry of the award-winning Rasa String Quartet. Join us for one of two extraordinary performances by the Quartet reimagining the music of pop icon Taylor Swift or one of the most influential rock bands of all time\, Queen. The Great Hall boasts soaring ceilings\, stone walls\, and carefully calculated acoustics that make it a near-perfect space for live performance an ideal setting to hear the classics transformed.\n\n\n\nRasa /'r s?/: A Sanskrit term capturing the deeply felt but often indescribable emotional power of art. Blending the expressive depth of classical chamber music with the raw energy and storytelling traditions of folk\, the Rasa String Quartet explores the vibrant intersection where these worlds collide and inspire.\n\n\n\nFormed in 2019\, this Boston-based ensemble features violinists Emma Powell and Maura Shawn Scanlin\, violist Kiyoshi Hayashi\, and cellist Mina Kim. Together\, they are graduates of the New England Conservatory\, the Shepherd School of Music\, and Yale University. With an ear for nuance and a spirit of innovation\, Rasa brings a fresh voice to the string quartet tradition.\n\n\n\nWinners of numerous national and international competitions including the 2022 Associazione Europea di Musica e Comunicazione International Chamber Music Competition in Italy and the 2021 MTNA Chamber Music Competition Rasa String Quartet is known for performances that captivate\, surprise\, and stir the soul.\n\n\n\nThis summer experience Rasa Reimagined two boundary-blurring programs that fuse classical artistry with the enduring melodies of pop icons.\n\n\n\n6:00 pm - Rasa Plays Taylor Swift   A luminous tribute to Swift's evocative storytelling\, reinterpreted through the lens of the classical string quartet.\n\n\n\n8:00 pm - Rasa Plays Queen   A dynamic homage to rock royalty\, infusing Queen's legendary anthems with virtuosic chamber music flair.\n\n\n\nWhether steeped in tradition or stretching into uncharted territory\, the Rasa String Quartet invites you to discover the emotional power of music\, where genre dissolves and rasa remains.\n\n\n\nPlease note: There are no assigned seats.\n\nLight refreshments will be available for purchase. Cash Bar.
X-ALT-DESC;FMTTYPE=text/html:<span style="background-color:rgb(255\, 255\, 255)\; color:rgb(24\, 24\, 24)\; font-family:-apple-system\,blinkmacsystemfont\,segoe ui\,roboto\,helvetica\,arial\,sans-serif\,apple color emoji\,segoe ui emoji\,segoe ui symbol\; font-size:14px">Within the near-perfect acoustics of the Great Hall at Hammond Castle Museum\, two musical icons are reborn through the artistry of the award-winning Rasa String Quartet. Join us for one of two extraordinary performances by the Quartet reimagining the music of pop icon Taylor Swift or one of the most influential rock bands of all time\, Queen. The Great Hall boasts soaring ceilings\, stone walls\, and carefully calculated acoustics that make it a near-perfect space for live performance&mdash\;an ideal setting to hear the classics transformed.</span><br />\n<br />\n<span style="background-color:rgb(255\, 255\, 255)\; color:rgb(24\, 24\, 24)\; font-family:-apple-system\,blinkmacsystemfont\,segoe ui\,roboto\,helvetica\,arial\,sans-serif\,apple color emoji\,segoe ui emoji\,segoe ui symbol\; font-size:14px">Rasa /&#39\;r&auml\;s?/: A Sanskrit term capturing the deeply felt but often indescribable emotional power of art. Blending the expressive depth of classical chamber music with the raw energy and storytelling traditions of folk\, the Rasa String Quartet explores the vibrant intersection where these worlds collide&mdash\;and inspire.</span><br />\n<br />\n<span style="background-color:rgb(255\, 255\, 255)\; color:rgb(24\, 24\, 24)\; font-family:-apple-system\,blinkmacsystemfont\,segoe ui\,roboto\,helvetica\,arial\,sans-serif\,apple color emoji\,segoe ui emoji\,segoe ui symbol\; font-size:14px">Formed in 2019\, this Boston-based ensemble features violinists Emma Powell and Maura Shawn Scanlin\, violist Kiyoshi Hayashi\, and cellist Mina Kim. Together\, they are graduates of the New England Conservatory\, the Shepherd School of Music\, and Yale University. With an ear for nuance and a spirit of innovation\, Rasa brings a fresh voice to the string quartet tradition.</span><br />\n<br />\n<span style="background-color:rgb(255\, 255\, 255)\; color:rgb(24\, 24\, 24)\; font-family:-apple-system\,blinkmacsystemfont\,segoe ui\,roboto\,helvetica\,arial\,sans-serif\,apple color emoji\,segoe ui emoji\,segoe ui symbol\; font-size:14px">Winners of numerous national and international competitions&mdash\;including the 2022 Associazione Europea di Musica e Comunicazione International Chamber Music Competition in Italy and the 2021 MTNA Chamber Music Competition&mdash\;Rasa String Quartet is known for performances that captivate\, surprise\, and stir the soul.</span><br />\n<br />\n<span style="background-color:rgb(255\, 255\, 255)\; color:rgb(24\, 24\, 24)\; font-family:-apple-system\,blinkmacsystemfont\,segoe ui\,roboto\,helvetica\,arial\,sans-serif\,apple color emoji\,segoe ui emoji\,segoe ui symbol\; font-size:14px">This summer experience Rasa Reimagined&mdash\;two boundary-blurring programs that fuse classical artistry with the enduring melodies of pop icons.</span><br />\n<br />\n<span style="background-color:rgb(255\, 255\, 255)\; color:rgb(24\, 24\, 24)\; font-family:-apple-system\,blinkmacsystemfont\,segoe ui\,roboto\,helvetica\,arial\,sans-serif\,apple color emoji\,segoe ui emoji\,segoe ui symbol\; font-size:14px">6:00 pm - Rasa Plays Taylor Swift &ndash\; A luminous tribute to Swift&rsquo\;s evocative storytelling\, reinterpreted through the lens of the classical string quartet.</span><br />\n<br />\n<span style="background-color:rgb(255\, 255\, 255)\; color:rgb(24\, 24\, 24)\; font-family:-apple-system\,blinkmacsystemfont\,segoe ui\,roboto\,helvetica\,arial\,sans-serif\,apple color emoji\,segoe ui emoji\,segoe ui symbol\; font-size:14px">8:00 pm - Rasa Plays Queen &ndash\; A dynamic homage to rock royalty\, infusing Queen&rsquo\;s legendary anthems with virtuosic chamber music flair.</span><br />\n<br />\n<span style="background-color:rgb(255\, 255\, 255)\; color:rgb(24\, 24\, 24)\; font-family:-apple-system\,blinkmacsystemfont\,segoe ui\,roboto\,helvetica\,arial\,sans-serif\,apple color emoji\,segoe ui emoji\,segoe ui symbol\; font-size:14px">Whether steeped in tradition or stretching into uncharted territory\, the Rasa String Quartet invites you to discover the emotional power of music\, where genre dissolves and rasa remains.</span><br />\n<br />\n<span style="background-color:rgb(255\, 255\, 255)\; color:rgb(24\, 24\, 24)\; font-family:-apple-system\,blinkmacsystemfont\,segoe ui\,roboto\,helvetica\,arial\,sans-serif\,apple color emoji\,segoe ui emoji\,segoe ui symbol\; font-size:14px">Please note: There are no assigned seats.</span><br />\n<span style="background-color:rgb(255\, 255\, 255)\; color:rgb(24\, 24\, 24)\; font-family:-apple-system\,blinkmacsystemfont\,segoe ui\,roboto\,helvetica\,arial\,sans-serif\,apple color emoji\,segoe ui emoji\,segoe ui symbol\; font-size:14px">Light refreshments will be available for purchase. Cash Bar.</span>
LOCATION:Hammond Castle Museum 80 Hesperus Avenue Gloucester\, MA 01930
UID:e.2981.37324
SEQUENCE:3
DTSTAMP:20260424T235313Z
URL:https://business.capeannchamber.com/events/details/the-rasa-string-quartet-reimagines-taylor-swift-queen-37324
END:VEVENT

END:VCALENDAR
