BEGIN:VCALENDAR
VERSION:2.0
PRODID:-//ChamberMaster//Event Calendar 2.0//EN
METHOD:PUBLISH
X-PUBLISHED-TTL:P3D
REFRESH-INTERVAL:P3D
CALSCALE:GREGORIAN
BEGIN:VEVENT
DTSTART:20241208T170000Z
DTEND:20241208T200000Z
X-MICROSOFT-CDO-ALLDAYEVENT:FALSE
SUMMARY:The Polar Express
DESCRIPTION:Doors\, games\, and Santa starting at NOON\, film begins at 1:30pm\n\n\n\nJoin us Sunday\, December 8\, for this cherished holiday tradition. Bring the family to meet Santa\, play games\, and relish the timeless Christmas tale\, "The Polar Express\," on the big screen. This event is in support of The Isabella Marino Charitable Fund. Don't forget to wear your coziest PJs!\nGrab your tickets today before this popular event sells out!
X-ALT-DESC;FMTTYPE=text/html:<strong>Doors\, games\, and Santa starting at NOON\, film begins at 1:30pm</strong><br />\n<br />\nJoin us Sunday\, December 8\, for this cherished holiday tradition. Bring the family to meet Santa\, play games\, and relish the timeless Christmas tale\, &ldquo\;The Polar Express\,&rdquo\; on the big screen. This event is in support of The Isabella Marino Charitable Fund. Don&rsquo\;t forget to wear your coziest PJs!\n<p>Grab your tickets today before this popular event sells out!</p>\n
LOCATION:The Cabot 286 Cabot Street Beverly\, MA 01915
UID:e.2981.34181
SEQUENCE:3
DTSTAMP:20260424T123402Z
URL:https://business.capeannchamber.com/events/details/the-polar-express-34181
END:VEVENT

END:VCALENDAR
