BEGIN:VCALENDAR
VERSION:2.0
PRODID:-//ChamberMaster//Event Calendar 2.0//EN
METHOD:PUBLISH
X-PUBLISHED-TTL:P3D
REFRESH-INTERVAL:P3D
CALSCALE:GREGORIAN
BEGIN:VEVENT
DTSTART:20231203T003000Z
DTEND:20231203T030000Z
X-MICROSOFT-CDO-ALLDAYEVENT:FALSE
SUMMARY:The Paula Plum and Richard Snee Home for the Holidays Special
DESCRIPTION:Celebrate the Holidays at Gloucester Stage with your hosts Paula Plum & Richard Snee (Grand Horizons) for a one-night only fundraiser.\n\nStep into the retro television set as the Live Studio Audience for this late-night comedy show. Paula & Richard are joined by the What Time is it Mr. Fox Band live onstage as they welcome special guests Paul Melendy* (Tall Tales from Blackburn Tavern)\, and others!\n\nFull of holiday fun & sing-a-longs\, tickets include open bar and dessert bar after the performance. The Home for the Holidays Special is the perfect way to celebrate the Season with laughs and cheer.
X-ALT-DESC;FMTTYPE=text/html:<div>Celebrate the Holidays at Gloucester Stage with your hosts Paula Plum &amp\; Richard Snee (Grand Horizons) for a one-night only fundraiser.</div>\n\n<div>Step into the retro television set as the Live Studio Audience for this late-night comedy show. Paula &amp\; Richard are joined by the What Time is it Mr. Fox Band live onstage as they welcome special guests Paul Melendy* (Tall Tales from Blackburn Tavern)\, and others!</div>\n\n<div>Full of holiday fun &amp\; sing-a-longs\, tickets include open bar and dessert bar after the performance. The Home for the Holidays Special is the perfect way to celebrate the Season with laughs and cheer.</div>\n
LOCATION:Gloucester Stage Company
UID:e.2981.26995
SEQUENCE:3
DTSTAMP:20260421T215119Z
URL:https://business.capeannchamber.com/events/details/the-paula-plum-and-richard-snee-home-for-the-holidays-special-26995
END:VEVENT

END:VCALENDAR
