BEGIN:VCALENDAR
VERSION:2.0
PRODID:-//ChamberMaster//Event Calendar 2.0//EN
METHOD:PUBLISH
X-PUBLISHED-TTL:P3D
REFRESH-INTERVAL:P3D
CALSCALE:GREGORIAN
BEGIN:VEVENT
DTSTART:20241214T003000Z
DTEND:20241214T040000Z
X-MICROSOFT-CDO-ALLDAYEVENT:FALSE
SUMMARY:The LeeVees Hanukkah Party For All
DESCRIPTION:12/13/24\n\nReserved Seating $30\n\nStanding $24\n\n\n\nAll Ages\, under 18 must be accompanied by a parent.\n\n\n\nThe LeeVees are a rock band featuring Adam Gardner of Guster and Dave Schneider of the Zambonis. The band was formed when the two bands toured together. The latter band only writes songs about ice hockey. Gardner and Schneider thought it would be fun to form another rock band\, a Jewish one\, that only wrote songs about Hanukkah\, because there was a dearth of contemporary songs about that holiday. It first came to prominence near the end of 2005 with its debut album\, Hanukkah Rocks. After realizing its initial approach was rather narrow\, it continues as a band with a strong Jewish identity. Hanukkah Rocks producer Peter Katis had previously worked with Guster\, as well as a range of indie-rock acts.
X-ALT-DESC;FMTTYPE=text/html:<span style="color:rgb(64\, 64\, 65)\; font-family:open sans\,sans-serif\; font-size:14px">12/13/24</span><br />\n<span style="color:rgb(64\, 64\, 65)\; font-family:open sans\,sans-serif\; font-size:12pt"><strong>Reserved Seating $30</strong></span><br />\n<span style="color:rgb(64\, 64\, 65)\; font-family:open sans\,sans-serif\; font-size:12pt"><strong>Standing $24</strong></span><br />\n<br />\n<span style="color:rgb(64\, 64\, 65)\; font-family:open sans\,sans-serif\; font-size:14px">All Ages\, under 18 must be accompanied by a parent.</span><br />\n<br />\n<span style="color:rgb(64\, 64\, 65)\; font-family:open sans\,sans-serif\; font-size:14px">The LeeVees are a rock band&nbsp\;</span><strong>featuring Adam Gardner of Guster and Dave Schneider of the Zambonis.</strong><span style="color:rgb(64\, 64\, 65)\; font-family:open sans\,sans-serif\; font-size:14px">&nbsp\;The band was formed when the two bands toured together. The latter band only writes songs about ice hockey. Gardner and Schneider thought it would be fun to form another rock band\, a Jewish one\, that only wrote songs about Hanukkah\, because there was a dearth of contemporary songs about that holiday. It first came to prominence near the end of 2005 with its debut album\, Hanukkah Rocks. After realizing its initial approach was rather narrow\, it continues as a band with a strong Jewish identity. Hanukkah Rocks producer Peter Katis had previously worked with Guster\, as well as a range of indie-rock acts.</span>
LOCATION:The Cut 177 Main Street Gloucester\, MA 01930
UID:e.2981.34109
SEQUENCE:3
DTSTAMP:20260424T152712Z
URL:https://business.capeannchamber.com/events/details/the-leevees-hanukkah-party-for-all-34109
END:VEVENT

END:VCALENDAR
