BEGIN:VCALENDAR
VERSION:2.0
PRODID:-//ChamberMaster//Event Calendar 2.0//EN
METHOD:PUBLISH
X-PUBLISHED-TTL:P3D
REFRESH-INTERVAL:P3D
CALSCALE:GREGORIAN
BEGIN:VEVENT
DTSTART:20241127T230000Z
DTEND:20241128T020000Z
X-MICROSOFT-CDO-ALLDAYEVENT:FALSE
SUMMARY:The James Presents - Steve Dennis - Live Music on Thanksgiving Eve
DESCRIPTION:
X-ALT-DESC;FMTTYPE=text/html:
LOCATION:The James - Essex thejamespub.com
UID:e.2981.34212
SEQUENCE:3
DTSTAMP:20260424T141258Z
URL:https://business.capeannchamber.com/events/details/the-james-presents-steve-dennis-live-music-on-thanksgiving-eve-34212
END:VEVENT

END:VCALENDAR
