BEGIN:VCALENDAR
VERSION:2.0
PRODID:-//ChamberMaster//Event Calendar 2.0//EN
METHOD:PUBLISH
X-PUBLISHED-TTL:P3D
REFRESH-INTERVAL:P3D
CALSCALE:GREGORIAN
BEGIN:VEVENT
DTSTART:20250712T163000Z
DTEND:20250713T023000Z
X-MICROSOFT-CDO-ALLDAYEVENT:FALSE
SUMMARY:The Ipswich Greek Festival 2025
DESCRIPTION:Celebrating over 100 years of tradition!\n\n \n\nRoasted Lamb   Greek Specialties   Greek Salads   Gyros   Greek Fries   Loukoumades   Authentic Greek Pastries & Frappes\n\n \n\nGreek Dancing and Live Music All Day Long!  Raffles   Authentic Greek Taverna   Free Kid's Zone \n\n\n\n greekfestivalipswich.com
X-ALT-DESC;FMTTYPE=text/html:<span style="font-size:16px\;"><strong>Celebrating over 100 years of tradition!</strong><br />\n&nbsp\;<br />\nRoasted Lamb &bull\; Greek Specialties &bull\; Greek Salads &bull\; Gyros &bull\; Greek Fries &bull\; Loukoumades &bull\; Authentic Greek Pastries &amp\; Frappes<br />\n&nbsp\;<br />\nGreek Dancing and Live Music All Day Long! &nbsp\;Raffles &bull\; Authentic Greek Taverna &bull\; Free Kid&rsquo\;s Zone&nbsp\;<br />\n<br />\n&nbsp\;<a href="https://greekfestivalipswich.weebly.com/" target="_blank">greekfestivalipswich.com</a><br />\n<br />\n&nbsp\;</span><br />\n&nbsp\;
LOCATION:Floriana at The Hellenic Center Ipswich Junction of Routes 133 and 1A
UID:e.2981.36628
SEQUENCE:3
DTSTAMP:20260425T212333Z
URL:https://business.capeannchamber.com/events/details/the-ipswich-greek-festival-2025-36628
END:VEVENT

END:VCALENDAR
