BEGIN:VCALENDAR
VERSION:2.0
PRODID:-//ChamberMaster//Event Calendar 2.0//EN
METHOD:PUBLISH
X-PUBLISHED-TTL:P3D
REFRESH-INTERVAL:P3D
CALSCALE:GREGORIAN
BEGIN:VEVENT
DTSTART:20260124T010000Z
DTEND:20260124T030000Z
X-MICROSOFT-CDO-ALLDAYEVENT:FALSE
SUMMARY:The Infamous Stringdusters
DESCRIPTION:The Infamous Stringdusters are a celebrated American progressive bluegrass band known for their virtuosic musicianship\, innovative arrangements\, and genre-blending style.
X-ALT-DESC;FMTTYPE=text/html:The Infamous Stringdusters are a celebrated American progressive bluegrass band known for their virtuosic musicianship\, innovative arrangements\, and genre-blending style.
LOCATION:The Cabot 286 Cabot St Beverly\, MA 01915
UID:e.2981.45844
SEQUENCE:3
DTSTAMP:20260425T152704Z
URL:https://business.capeannchamber.com/events/details/the-infamous-stringdusters-45844
END:VEVENT

END:VCALENDAR
