BEGIN:VCALENDAR
VERSION:2.0
PRODID:-//ChamberMaster//Event Calendar 2.0//EN
METHOD:PUBLISH
X-PUBLISHED-TTL:P3D
REFRESH-INTERVAL:P3D
CALSCALE:GREGORIAN
BEGIN:VEVENT
DTSTART:20201030T220000Z
DTEND:20201031T010000Z
X-MICROSOFT-CDO-ALLDAYEVENT:FALSE
SUMMARY:The Horror Of Abbadia Mare: An Adaptation of Five H.P. Lovecraft Stories
DESCRIPTION:By Popular Demand\, Friday\, November 6th Added!\n\n\n\nIn October 1929\, overshadowed by the collapse of the stock market\, the transfer of the castle Abbadia Mare to the shores of America was complete. With it came a horror which brought down one of the most prolific inventors of his time and with him\, the House of Hammond. Almost 100 years ago\, this closely guarded secret was transcribed by John Hays Hammond\, Jr. in the margins of a forbidden book. We are prepared to finally tell the story!\n\nThis October\, Hammond Castle Museum will offer a room-to-room theater performance of The Horror of Abbadia Mare\, an adaptation of five H.P. Lovecraft stories set within the Castle and adapted around our founder John Hays Hammond Jr. The Horror-Fan culture will recognize many of the elements of H.P. Lovecraft stories woven together with catastrophic results of Hammond's insatiable curiosity and research into his family's dark past at Miskatonic University's Library.   As guests move through the inner rooms of the Castle they come upon various members of the Hammond household and are drawn into a story of frantic and erratic happenings within the castle's walls.\n\nThe five adaptations include Lovecraft's: Dunwich Horror\, Dreams in the Witch House\, The Hound\, The Colour Out of Space\, and From Beyond.
X-ALT-DESC;FMTTYPE=text/html:<p style="text-align: center\;"><strong><span style="font-size:16px"><em>By Popular Demand\, Friday\, November 6th Added!</em></span></strong></p>\n\n<p><br />\n<strong>In October 1929\, overshadowed by the collapse of the stock market\, the transfer of the castle Abbadia Mare to the shores of America was complete. With it came a horror which brought down one of the most prolific inventors of his time and with him\, the House of Hammond. Almost 100 years ago\, this closely guarded secret was transcribed by John Hays Hammond\, Jr. in the margins of a forbidden book. We are prepared to finally tell the story!</strong></p>\n\n<p>This October\, Hammond Castle Museum will offer a room-to-room theater performance of&nbsp\;<em>The Horror of Abbadia Mare</em>\, an adaptation of five H.P. Lovecraft stories set within the Castle and adapted around our founder John Hays Hammond Jr. The Horror-Fan culture will recognize many of the elements of H.P. Lovecraft stories woven together with catastrophic results of Hammond&rsquo\;s insatiable curiosity and research into his family&rsquo\;s dark past at Miskatonic University&rsquo\;s Library.&nbsp\;&nbsp\; As guests move through the inner rooms of the Castle they come upon various members of the Hammond household and are drawn into a story of frantic and erratic happenings within the castle&rsquo\;s walls.</p>\n\n<p>The five adaptations include Lovecraft&rsquo\;s:<em>&nbsp\;Dunwich Horror\, Dreams in the Witch House\, The Hound\, The Colour Out of Space</em>\, and&nbsp\;<em>From Beyond</em>.</p>\n\n<p>&nbsp\;</p>\n
LOCATION:Hammond Castle Museum 80 Hesperus Avenue Gloucester\, MA
UID:e.2981.20168
SEQUENCE:3
DTSTAMP:20260419T195541Z
URL:https://business.capeannchamber.com/events/details/the-horror-of-abbadia-mare-an-adaptation-of-five-h-p-lovecraft-stories-10-30-2020-20168
END:VEVENT

END:VCALENDAR
