BEGIN:VCALENDAR
VERSION:2.0
PRODID:-//ChamberMaster//Event Calendar 2.0//EN
METHOD:PUBLISH
X-PUBLISHED-TTL:P3D
REFRESH-INTERVAL:P3D
CALSCALE:GREGORIAN
BEGIN:VEVENT
DTSTART:20240928T000000Z
DTEND:20240928T020000Z
X-MICROSOFT-CDO-ALLDAYEVENT:FALSE
SUMMARY:The Hombres by Tony Meneses
DESCRIPTION:A macho crew of construction workers clash with the clientele of the next door yoga studio in this new comedy. When Juli n\, the Latino yoga instructor\, confronts H ctor\, the older head of the crew\, the men find new flexibility and friendship they never expected. Secret yoga lessons and deep conversations provide an intimate look at masculinity in this heartwarming play.\n\nWritten by Tony Meneses and directed by Armando Rivera\, The Hombres offers a fresh perspective on male friendships and machismo culture. Running from September 6 to 29\, the production will start at Gloucester Stage's Theater for the first three weeks and move to Chelsea Theatre Works for the final week.\n\nShowtimes are Wednesdays & Thursdays at 7:30pm\, Fridays & Saturdays at 8:00pm\, and matinees Saturdays & Sundays at 3:00pm.
X-ALT-DESC;FMTTYPE=text/html:<p>A macho crew of construction workers clash with the clientele of the next door yoga studio in this new comedy. When Juli&aacute\;n\, the Latino yoga instructor\, confronts H&eacute\;ctor\, the older head of the crew\, the men find new flexibility and friendship they never expected. Secret yoga lessons and deep conversations provide an intimate look at masculinity in this heartwarming play.</p>\n\n<p>Written by Tony Meneses and directed by Armando Rivera\,&nbsp\;<em><strong>The Hombres</strong></em>&nbsp\;offers a fresh perspective on male friendships and machismo culture. Running from September 6 to 29\, the production will start at Gloucester Stage&rsquo\;s Theater for the first three weeks and move to Chelsea Theatre Works for the final week.</p>\n\n<p>Showtimes are Wednesdays &amp\; Thursdays at 7:30pm\, Fridays &amp\; Saturdays at 8:00pm\, and matinees Saturdays &amp\; Sundays at 3:00pm.</p>\n
LOCATION:Gloucester Stage Company 267 East Main St. Gloucester\, MA 01930 Performances from September 27th-29th will be performed at Chelsea Theatre Works: 189 Winnisimmet St. Chelsea\, MA
UID:e.2981.32745
SEQUENCE:3
DTSTAMP:20260420T212555Z
URL:https://business.capeannchamber.com/events/details/the-hombres-by-tony-meneses-09-27-2024-32745
END:VEVENT

END:VCALENDAR
