BEGIN:VCALENDAR
VERSION:2.0
PRODID:-//ChamberMaster//Event Calendar 2.0//EN
METHOD:PUBLISH
X-PUBLISHED-TTL:P3D
REFRESH-INTERVAL:P3D
CALSCALE:GREGORIAN
BEGIN:VEVENT
DTSTART:20211104T233000Z
DTEND:20211105T003000Z
X-MICROSOFT-CDO-ALLDAYEVENT:FALSE
SUMMARY:The GMGI Science Hour with Dr. Erinn Muller and Dr. Hanna Koch
DESCRIPTION:Join us for our November Science Hour as we welcome Mote Marine Laboratory scientists Dr. Erinn Muller and Dr. Hanna Koch to discuss their cutting-edge research studying and restoring Florida's coral reefs. \n\n\n\nThis talk begins at 7:30p on Thursday\, November 4th and is free to attend. Click this link below to register and reach out to Ashley Destino at ashley.destino@gmgi.org with any questions.
X-ALT-DESC;FMTTYPE=text/html:Join us for our November Science Hour as we welcome Mote Marine Laboratory scientists Dr. Erinn Muller and Dr. Hanna Koch to discuss their cutting-edge research studying and restoring Florida&#39\;s coral reefs.&nbsp\;<br />\n<br />\nThis talk begins at 7:30p on Thursday\, November 4th and is free to attend. Click <a href="https://us02web.zoom.us/webinar/register/WN_I0M8aOrtT6u7kVO6oWNTtQ">this link </a>below to register and reach out to Ashley Destino at ashley.destino@gmgi.org with any questions.&nbsp\;
LOCATION:Zoom: https://us02web.zoom.us/webinar/register/WN_I0M8aOrtT6u7kVO6oWNTtQ
UID:e.2981.21398
SEQUENCE:3
DTSTAMP:20260424T124111Z
URL:https://business.capeannchamber.com/events/details/the-gmgi-science-hour-with-dr-erinn-muller-and-dr-hanna-koch-21398
END:VEVENT

END:VCALENDAR
