BEGIN:VCALENDAR
VERSION:2.0
PRODID:-//ChamberMaster//Event Calendar 2.0//EN
METHOD:PUBLISH
X-PUBLISHED-TTL:P3D
REFRESH-INTERVAL:P3D
CALSCALE:GREGORIAN
BEGIN:VEVENT
DTSTART:20260509T180000Z
DTEND:20260509T200000Z
X-MICROSOFT-CDO-ALLDAYEVENT:FALSE
SUMMARY:The Gloucester Lyceum Presents: “Our Democracy” — A Timely Public Forum Featuring Harvard Professor Steven Levitsky
DESCRIPTION:Where does democracy come from and how do we sustain it in challenging times?\n\nJoin the Gloucester Lyceum for a timely forum exploring the strengths\, vulnerabilities\,\n\nand future of democratic institutions.\n\n\n\nHarvard professor Steven Levitsky will speak from his forthcoming book The Great\n\nAbdication: How America Lost its Democracy\, examining the nation's recent shift\n\ntoward competitive authoritarianism and the role of political elites.\n\n\n\nJournalist and commentator Callie Crossley will respond and lead an audience\n\ndiscussion.\n\n\n\nRegistration required: sawyerfreelibrary.org/\n\nQuestions: gloucesterlyceum@sawyerfreelibrary.org
X-ALT-DESC;FMTTYPE=text/html:<div>Where does democracy come from&mdash\;and how do we sustain it in challenging times?<br />\nJoin the Gloucester Lyceum for a timely forum exploring the strengths\, vulnerabilities\,<br />\nand future of democratic institutions.<br />\n<br />\nHarvard professor Steven Levitsky will speak from his forthcoming book The Great<br />\nAbdication: How America Lost its Democracy\, examining the nation&rsquo\;s recent shift<br />\ntoward competitive authoritarianism and the role of political elites.<br />\n<br />\nJournalist and commentator Callie Crossley will respond and lead an audience<br />\ndiscussion.<br />\n<br />\nRegistration required:&nbsp\;<a href="http://sawyerfreelibrary.org/" style="color: rgb(17\, 85\, 204)\;" target="_blank">sawyerfreelibrary.org/</a><br />\nQuestions:&nbsp\;<a href="mailto:gloucesterlyceum@sawyerfreelibrary.org" style="color: rgb(17\, 85\, 204)\;" target="_blank">gloucesterlyceum@sawyerfreelibrary.org</a></div>\n
LOCATION:Kyrouz Auditorium\, City Hall 9 Dale Avenue\, 2nd Floor\, Gloucester\, MA 01930
UID:e.2981.46948
SEQUENCE:3
DTSTAMP:20260426T025055Z
URL:https://business.capeannchamber.com/events/details/the-gloucester-lyceum-presents-our-democracy-a-timely-public-forum-featuring-harvard-professor-steven-levitsky-46948
END:VEVENT

END:VCALENDAR
