BEGIN:VCALENDAR
VERSION:2.0
PRODID:-//ChamberMaster//Event Calendar 2.0//EN
METHOD:PUBLISH
X-PUBLISHED-TTL:P3D
REFRESH-INTERVAL:P3D
CALSCALE:GREGORIAN
BEGIN:VEVENT
DTSTART:20241208T010000Z
DTEND:20241208T043000Z
X-MICROSOFT-CDO-ALLDAYEVENT:FALSE
SUMMARY:The Glostafarians and The Carnivals
DESCRIPTION:12/07/24\n\nReserved Rails and G.A. Standing 8:00pm doors / 8:30pm show\n\n21+\, Positive I.D. Required $20-30\n\n\n\nThe Carnivals are a 5 piece combo that combine a unique blend of 50's inspired R&B with a New Orleans flair. Hailing from Gloucester Massachusetts\, their debut album\, "Fiesta Time" was released in spring of 2024. Best described as a fun time party band\, the song "Greasy Pole" tells the tale of a 100 plus year competition where the contestants walk the length of a horizontal telephone pole coated in grease\, 20 feet over the harbor to capture a flag and achieve hero status on the streets of Gloucester.
X-ALT-DESC;FMTTYPE=text/html:<span style="color:rgb(64\, 64\, 65)\; font-family:open sans\,sans-serif\; font-size:14px">12/07/24</span><br />\n<span style="color:rgb(64\, 64\, 65)\; font-family:open sans\,sans-serif\; font-size:14px">Reserved Rails and G.A. Standing 8:00pm doors / 8:30pm show</span><br />\n<span style="color:rgb(64\, 64\, 65)\; font-family:open sans\,sans-serif\; font-size:14px">21+\, Positive I.D. Required $20-30</span><br />\n<br />\n<span style="color:rgb(64\, 64\, 65)\; font-family:open sans\,sans-serif\; font-size:14px">The Carnivals are a 5 piece combo that combine a unique blend of 50&rsquo\;s inspired R&amp\;B with a New Orleans flair. Hailing from Gloucester Massachusetts\, their debut album\, &ldquo\;Fiesta Time&rdquo\;&nbsp\;was released in spring of 2024. Best described as a fun time party band\, the song &ldquo\;Greasy Pole&rdquo\; tells the tale of a 100 plus year competition where the contestants walk the length of a horizontal telephone pole coated in grease\, 20 feet over the harbor to capture a flag and achieve hero status on the streets of Gloucester.</span>
LOCATION:The Cut 177 Main Street Gloucester\, MA 01930
UID:e.2981.33251
SEQUENCE:3
DTSTAMP:20260424T152537Z
URL:https://business.capeannchamber.com/events/details/the-glostafarians-and-the-carnivals-33251
END:VEVENT

END:VCALENDAR
