BEGIN:VCALENDAR
VERSION:2.0
PRODID:-//ChamberMaster//Event Calendar 2.0//EN
METHOD:PUBLISH
X-PUBLISHED-TTL:P3D
REFRESH-INTERVAL:P3D
CALSCALE:GREGORIAN
BEGIN:VEVENT
DTSTART:20250625T233000Z
DTEND:20250626T013000Z
X-MICROSOFT-CDO-ALLDAYEVENT:FALSE
SUMMARY:THE GLASS MENAGERIE by Tennessee Williams
DESCRIPTION:Through Tom's cinematic eyes\, his family's life isn't the dream he imagined. In a rundown St. Louis apartment the matriarch\, Amanda Wingfield\, is desperately clinging to a past of parties and endless callers. Her adult children\, Tom and Laura\, become victims of her delusions as she pushes for Tom to provide for the struggling family and Laura to find a husband. The two seek solace in ways of escaping their mother and their own misery until a visit from a gentleman caller presents the possibility of new opportunities.\n\nRenowned playwright Tennessee Williams opens the 2025 Season with this classic drama\, directed by Doug Lockwood. Running from June 5 to 28\, all performances are at Gloucester Stage's Theater 267 East Main Street\, Gloucester. Showtimes are Wednesdays & Thursdays at 7:30pm\, Fridays & Saturdays at 8:00pm\, and matinees Saturdays & Sunday at 3:00pm.
X-ALT-DESC;FMTTYPE=text/html:<p>Through Tom&rsquo\;s cinematic eyes\, his family&rsquo\;s life isn&rsquo\;t the dream he imagined. In a rundown St. Louis apartment the matriarch\, Amanda Wingfield\, is desperately clinging to a past of parties and endless callers. Her adult children\, Tom and Laura\, become victims of her delusions as she pushes for Tom to provide for the struggling family and Laura to find a husband. The two seek solace in ways of escaping their mother and their own misery until a visit from a gentleman caller presents the possibility of new opportunities.</p>\n\n<p>Renowned playwright Tennessee Williams opens the 2025 Season with this classic drama\, directed by Doug Lockwood. Running from June 5 to 28\, all performances are at Gloucester Stage&rsquo\;s Theater 267 East Main Street\, Gloucester. Showtimes are Wednesdays &amp\; Thursdays at 7:30pm\, Fridays &amp\; Saturdays at 8:00pm\, and matinees Saturdays &amp\; Sunday at 3:00pm.</p>\n
LOCATION:Gloucester Stage Company 267 East Main Street Gloucester\, MA 01930
UID:e.2981.36668
SEQUENCE:3
DTSTAMP:20260424T211730Z
URL:https://business.capeannchamber.com/events/details/the-glass-menagerie-by-tennessee-williams-06-25-2025-36668
END:VEVENT

END:VCALENDAR
