BEGIN:VCALENDAR
VERSION:2.0
PRODID:-//ChamberMaster//Event Calendar 2.0//EN
METHOD:PUBLISH
X-PUBLISHED-TTL:P3D
REFRESH-INTERVAL:P3D
CALSCALE:GREGORIAN
BEGIN:VEVENT
DTSTART:20250420T000000Z
DTEND:20250420T020000Z
X-MICROSOFT-CDO-ALLDAYEVENT:FALSE
SUMMARY:The Fixx
DESCRIPTION:With Jill Sobule\nThe FIXX has been heralded as one of the most innovative bands to come out of the "MTV" era.\n\n\nThe style and substance of the band has always created a special connection with its audience. The Fixx's themes are often complex\, introspective and thought-provoking and it's also been mass appeal with three #1 hits\, five in the Top Five\, a dozen reaching the Top Ten and millions of albums sold worldwide. Instantly recognizable\, The Fixx sound is unmistakably unique and stands out among the thousands of artists filling the airwaves. Songs such as "One Thing Leads To Another"\, "Red Skies" and "Saved By Zero" remain everyday staples on the playlists of the radio stations that continue to break new
X-ALT-DESC;FMTTYPE=text/html:With Jill Sobule\n<p>The FIXX has been heralded as one of the most innovative bands to come out of the &ldquo\;MTV&rdquo\; era.</p>\n\n<div>\n<p>The style and substance of the band has always created a special connection with its audience. The Fixx&rsquo\;s themes are often complex\, introspective and thought-provoking and it&rsquo\;s also been mass appeal with three #1 hits\, five in the Top Five\, a dozen reaching the Top Ten and millions of albums sold worldwide. Instantly recognizable\, The Fixx sound is unmistakably unique and stands out among the thousands of artists filling the airwaves. Songs such as &ldquo\;One Thing Leads To Another&rdquo\;\, &ldquo\;Red Skies&rdquo\; and &ldquo\;Saved By Zero&rdquo\; remain everyday staples on the playlists of the radio stations that continue to break new</p>\n</div>\n
LOCATION:The Cabot 286 Cabot St Beverly\, MA 01915
UID:e.2981.35164
SEQUENCE:3
DTSTAMP:20260424T140702Z
URL:https://business.capeannchamber.com/events/details/the-fixx-35164
END:VEVENT

END:VCALENDAR
