BEGIN:VCALENDAR
VERSION:2.0
PRODID:-//ChamberMaster//Event Calendar 2.0//EN
METHOD:PUBLISH
X-PUBLISHED-TTL:P3D
REFRESH-INTERVAL:P3D
CALSCALE:GREGORIAN
BEGIN:VEVENT
DTSTART:20250925T233000Z
DTEND:20250926T030000Z
X-MICROSOFT-CDO-ALLDAYEVENT:FALSE
SUMMARY:The Far Out & Residual Groove
DESCRIPTION:Reserved Rail Seats $25 + $6.95 service fee\n\nGA Standing $15 + $6.95 service fee\n\n$30/$20 + $6.95 service fee day of show\n\n7:00pm Doors / 7:30pm Show\n\n18+\, Positive I.D. Required. \n\n\n\nThe Far Out is a funk and soul pop band from Boston\, Massachusetts. The six powerhouse musicians have been playing together since they were kids - learning and growing through shared experiences in jazz\, theatre\, a cappella\, and orchestra. Now\, The "New Act of the Year" recipient at the New England Music Awards engage their audiences with lush vocals and groovy horn lines\, supported by undeniable chemistry and raw star quality. Their goal is to include audiences in their infectious joy and spread the love of funk and soul music.\n\n\n\nTaking after the likes of Fleetwood Mac\, Eagles\, and Earth\, Wind & Fire\, The Far Out is stacked with multiple lead singers and songwriters. Their genre is a cohesion of their individual tastes and influences\, brought together by a shared aim to entertain and inspire. You'll often catch the group of multi-instrumentalists switching roles during their shows   passing guitars around\, moving from lead vocals to horn section\, or stealing a moment behind the keys.\n\n\n\nSince their formation in summer '21\, TFO has quickly become a notable part of the Greater Boston music community. The band is involved with local organizations such as Lungstrong\, Ipswich Caring\, Team Haverhill\, the Pelican Intervention Fund\, and Friends of Ipswich Elementary Schools (FRIES). The group's debut EP   self-titled\, The Far Out   was named Indie Boulevard's Best EP of 2023. In 2024\, they followed up the award-winning EP with two explosive singles\, "See Red (You're Dead)" and "Packed to Go." Their latest\, "Funkadelic Gas\," is a total groove-fest and a celebration of the group's chemistry and musicianship.\n\n\n\nHailing from Norwalk\, Connecticut\, Residual Groove has quickly earned a reputation for marrying high-octane jam-rock energy with disciplined musicianship. Founded by brothers Kiran Edwards (keys / vocals) and Previn Edwards (guitar / vocals)\, the quintet now features the melodic low-end wizardry of Ryan Berry on bass\, alongside the explosive Henry Thomas (drums) and percussive ace Garrett Halstead. Ryan's arrival in 2025 has deepened the band's pocket and opened new improvisational avenues\, adding a fresh\, muscular dimension to their sound. \n\n\n\nResidual Groove's 2024 debut album In Dream Time drew praise from peers and tastemakers across the jam scene for its forward-thinking arrangements and fearless sonic exploration. Members of Goose\, Eggy\, and Neighbor have publicly lauded the record's inventive blend of kaleidoscopic keyboards\, searing guitar lines\, and airtight rhythm work.\n\n\n\nOnstage\, the band treats every composition as a launchpad\, spinning structured songs into adventurous yet purposeful improvisations that keep crowds guessing and dancing. That chemistry has landed them support slots with scene heavyweights Andy Frasco\, Dogs in a Pile\, Karina Rykman\, Vasudo\, Pigeons Playing Ping Pong\, Melt\, and more. Each performance reaffirms Residual Groove's knack for turning a set list into a narrative journey\, seamlessly weaving one musical chapter into the next.\n\n\n\nWith a reinforced lineup\, an acclaimed debut under their belt\, and a relentless drive to push the boundaries of modern jam-rock\, Residual Groove is staking their claim as one of the Northeast's most compelling live acts one ecstatic\, exploratory show at a time.
X-ALT-DESC;FMTTYPE=text/html:<span style="color:rgb(64\, 64\, 65)\; font-family:open sans\,sans-serif\; font-size:14px">Reserved Rail Seats $25 + $6.95 service fee</span><br />\n<span style="color:rgb(64\, 64\, 65)\; font-family:open sans\,sans-serif\; font-size:14px">GA Standing $15 + $6.95 service fee</span><br />\n<span style="color:rgb(64\, 64\, 65)\; font-family:open sans\,sans-serif\; font-size:14px">$30/$20 + $6.95 service fee day of show</span><br />\n<span style="color:rgb(64\, 64\, 65)\; font-family:open sans\,sans-serif\; font-size:14px">7:00pm Doors / 7:30pm Show</span><br />\n<span style="color:rgb(64\, 64\, 65)\; font-family:open sans\,sans-serif\; font-size:14px">18+\, Positive I.D. Required.&nbsp\;</span><br />\n<br />\n<span style="color:rgb(64\, 64\, 65)\; font-family:open sans\,sans-serif\; font-size:14px">The Far Out is a funk and soul pop band from Boston\, Massachusetts. The six powerhouse musicians have been playing together since they were kids - learning and growing through shared experiences in jazz\, theatre\, a cappella\, and orchestra. Now\, The &quot\;New Act of the Year&rdquo\; recipient at the New England Music Awards engage their audiences with lush vocals and groovy horn lines\, supported by undeniable chemistry and raw star quality. Their goal is to include audiences in their infectious joy and spread the love of funk and soul music.</span><br />\n<br />\n<span style="color:rgb(64\, 64\, 65)\; font-family:open sans\,sans-serif\; font-size:14px">Taking after the likes of Fleetwood Mac\, Eagles\, and Earth\, Wind &amp\; Fire\, The Far Out is stacked with multiple lead singers and songwriters. Their genre is a cohesion of their individual tastes and influences\, brought together by a shared aim to entertain and inspire. You&rsquo\;ll often catch the group of multi-instrumentalists switching roles during their shows &mdash\; passing guitars around\, moving from lead vocals to horn section\, or stealing a moment behind the keys.</span><br />\n<br />\n<span style="color:rgb(64\, 64\, 65)\; font-family:open sans\,sans-serif\; font-size:14px">Since their formation in summer &lsquo\;21\, TFO has quickly become a notable part of the Greater Boston music community. The band is involved with local organizations such as Lungstrong\, Ipswich Caring\, Team Haverhill\, the Pelican Intervention Fund\, and Friends of Ipswich Elementary Schools (FRIES). The group&rsquo\;s debut EP &mdash\; self-titled\, The Far Out &mdash\; was named Indie Boulevard&rsquo\;s Best EP of 2023. In 2024\, they followed up the award-winning EP with two explosive singles\, &ldquo\;See Red (You&rsquo\;re Dead)&rdquo\; and &ldquo\;Packed to Go.&rdquo\; Their latest\, &quot\;Funkadelic Gas\,&quot\; is a total groove-fest and a celebration of the group&rsquo\;s chemistry and musicianship.</span><br />\n<br />\n<span style="color:rgb(64\, 64\, 65)\; font-family:open sans\,sans-serif\; font-size:14px">Hailing from Norwalk\, Connecticut\, Residual Groove has quickly earned a reputation for marrying high-octane jam-rock energy with disciplined musicianship. Founded by brothers Kiran Edwards (keys / vocals) and Previn Edwards (guitar / vocals)\, the quintet now features the melodic low-end wizardry of Ryan Berry on bass\, alongside the explosive Henry Thomas (drums) and percussive ace Garrett Halstead. Ryan&rsquo\;s arrival in 2025 has deepened the band&rsquo\;s pocket and opened new improvisational avenues\, adding a fresh\, muscular dimension to their sound.&nbsp\;</span><br />\n<br />\n<span style="color:rgb(64\, 64\, 65)\; font-family:open sans\,sans-serif\; font-size:14px">Residual Groove&rsquo\;s 2024 debut album In Dream Time drew praise from peers and tastemakers across the jam scene for its forward-thinking arrangements and fearless sonic exploration. Members of Goose\, Eggy\, and Neighbor have publicly lauded the record&rsquo\;s inventive blend of kaleidoscopic keyboards\, searing guitar lines\, and airtight rhythm work.</span><br />\n<br />\n<span style="color:rgb(64\, 64\, 65)\; font-family:open sans\,sans-serif\; font-size:14px">Onstage\, the band treats every composition as a launchpad\, spinning structured songs into adventurous yet purposeful improvisations that keep crowds guessing&mdash\;and dancing. That chemistry has landed them support slots with scene heavyweights Andy Frasco\, Dogs in a Pile\, Karina Rykman\, Vasudo\, Pigeons Playing Ping Pong\, Melt\, and more. Each performance reaffirms Residual Groove&rsquo\;s knack for turning a set list into a narrative journey\, seamlessly weaving one musical chapter into the next.</span><br />\n<br />\n<span style="color:rgb(64\, 64\, 65)\; font-family:open sans\,sans-serif\; font-size:14px">With a reinforced lineup\, an acclaimed debut under their belt\, and a relentless drive to push the boundaries of modern jam-rock\, Residual Groove is staking their claim as one of the Northeast&rsquo\;s most compelling live acts&mdash\;one ecstatic\, exploratory show at a time.</span>
LOCATION:The Cut 177 Main Street Gloucester\, MA 01930
UID:e.2981.43014
SEQUENCE:3
DTSTAMP:20260425T011233Z
URL:https://business.capeannchamber.com/events/details/the-far-out-residual-groove-43014
END:VEVENT

END:VCALENDAR
