BEGIN:VCALENDAR
VERSION:2.0
PRODID:-//ChamberMaster//Event Calendar 2.0//EN
METHOD:PUBLISH
X-PUBLISHED-TTL:P3D
REFRESH-INTERVAL:P3D
CALSCALE:GREGORIAN
BEGIN:VEVENT
DTSTART:20250913T233000Z
DTEND:20250914T020000Z
X-MICROSOFT-CDO-ALLDAYEVENT:FALSE
SUMMARY:The Clements Brothers with special guets Rachel Sumner & Traveling Light
DESCRIPTION:The Clements Brothers are George (guitar) and Charles (upright bass)\, identical twins from the heart of New England. The two have been playing and writing music together for as long as they can remember. They first entered the Americana music scene in 2012 as part of the internationally touring grass-roots band The Lonely Heartstring Band\, with which they released two albums on Rounder Records. Seasoned performers and accomplished musicians\, George played the role of Paul Simon in the hit national act 'The Simon and Garfunkel Story' while Charles can often be found in the bass section of the Boston Symphony Orchestra.\n\nRachel Sumner & Traveling Light are a Boston-based string band making music that blends folk tradition with feminist storytelling\, poetic detail\, and just enough grit. At the center is Sumner's songwriting. Her song 'Radium Girls (Curie Eleison)'has been streamed over 300\,000 times and has been used by dancers and theater directors. The trio features Kat Wallace on fiddle and vocals and Mike Siegel on upright bass and vocals. Their playing brings both tension and tenderness to the sound. Sumner was the 2025 Telluride Bluegrass Band Contest winner and was a 2024 winner of the Kerrville New Folk competition.
X-ALT-DESC;FMTTYPE=text/html:<span style="font-family:times new roman\,serif"><span style="font-size:12.0pt"><a href="https://www.theclementsbrothers.com" target="_blank">The Clements Brothers</a> are George (guitar) and Charles (upright bass)\, identical twins from the heart of New England. The two have been playing and writing music together for as long as they can remember. They first entered the Americana music scene in 2012 as part of the internationally touring grass-roots band The Lonely Heartstring Band\, with which they released two albums on Rounder Records. Seasoned performers and accomplished musicians\, George played the role of Paul Simon in the hit national act &lsquo\;The Simon and Garfunkel Story&rsquo\; while Charles can often be found in the bass section of the Boston Symphony Orchestra.</span></span><br />\n<span style="font-family:times new roman\,serif"><span style="font-size:12.0pt"><a href="https://rachelsumnermusic.com" target="_blank">Rachel Sumner &amp\; Traveling Light</a> are a Boston-based string band making music that blends folk tradition with feminist storytelling\, poetic detail\, and just enough grit. At the center is Sumner&rsquo\;s songwriting. Her song &lsquo\;Radium Girls (Curie Eleison)&rsquo\;has been streamed over 300\,000 times and has been used by dancers and theater directors. The trio features Kat Wallace on fiddle and vocals and Mike Siegel on upright bass and vocals. Their playing brings both tension and tenderness to the sound. Sumner was the 2025 Telluride Bluegrass Band Contest winner and was a 2024 winner of the Kerrville New Folk competition.</span></span><br />\n&nbsp\;
LOCATION:Old Sloop Presents First Congregational Church of Rockport 12 School St Rockport\, MA 01966
UID:e.2981.42857
SEQUENCE:3
DTSTAMP:20260422T091735Z
URL:https://business.capeannchamber.com/events/details/the-clements-brothers-with-special-guets-rachel-sumner-traveling-light-42857
END:VEVENT

END:VCALENDAR
