BEGIN:VCALENDAR
VERSION:2.0
PRODID:-//ChamberMaster//Event Calendar 2.0//EN
METHOD:PUBLISH
X-PUBLISHED-TTL:P3D
REFRESH-INTERVAL:P3D
CALSCALE:GREGORIAN
BEGIN:VEVENT
DTSTART:20241229T220000Z
DTEND:20241230T000000Z
X-MICROSOFT-CDO-ALLDAYEVENT:FALSE
SUMMARY:The Cape Ann Big Band & The Jambalaya Horns
DESCRIPTION:The Gloucester Meetinghouse Foundation proudly presents the Cape Ann Big Band with the Jambalaya Horns\, plus guest vocalists Katy Geraghty and\n\nRhiannon Hurst\, in a festive New Year's Concert. \n\nSince 2010\, the Cape Ann Big Band\, conducted by Carlos Menezes\, has connected with local musicians of all ages and backgrounds to inspire\, challenge\, and educate. Inspired by the sounds of Jazz\, Swing\, New Orleans' street bands\, Soul\, and Rock n' Roll\, the Band prides itself in a repertoire without horizons. The Jambalaya Horns provide added punch\, with added Funk\, Soul\, and Brassy Second-Lines. They will make you feel like you're in New Orleans! This is a great opportunity for the whole family to enjoy the sounds of two of our community's most amazing bands and to celebrate the coming New Year in our historic 1806 Meetinghouse!\n\n.
X-ALT-DESC;FMTTYPE=text/html:The Gloucester Meetinghouse Foundation proudly presents the Cape Ann Big Band with the Jambalaya Horns\, plus guest vocalists Katy Geraghty and<br />\nRhiannon Hurst\, in a festive New Year&rsquo\;s Concert.&nbsp\;<br />\nSince 2010\, the Cape Ann Big Band\, conducted by Carlos Menezes\, has connected with local musicians of all ages and backgrounds to inspire\, challenge\, and educate. Inspired by the sounds of Jazz\, Swing\, New Orleans&rsquo\; street bands\, Soul\, and Rock n&rsquo\; Roll\, the Band prides itself in a repertoire without horizons. The Jambalaya Horns provide added punch\, with added Funk\, Soul\, and Brassy Second-Lines. They will make you feel like you&rsquo\;re in New Orleans! This is a great opportunity for the whole family to enjoy the sounds of two of our community&rsquo\;s most amazing bands and to celebrate the coming New Year in our historic 1806 Meetinghouse!<br />\n.
LOCATION:Gloucester Unitarian Universalist Church Side entrance at 10 Church Street provides a lift/elevator for those who are challenged by stairs. Street parking as well as parking on the green is also available
UID:e.2981.34278
SEQUENCE:3
DTSTAMP:20260424T141206Z
URL:https://business.capeannchamber.com/events/details/the-cape-ann-big-band-the-jambalaya-horns-34278
END:VEVENT

END:VCALENDAR
