BEGIN:VCALENDAR
VERSION:2.0
PRODID:-//ChamberMaster//Event Calendar 2.0//EN
METHOD:PUBLISH
X-PUBLISHED-TTL:P3D
REFRESH-INTERVAL:P3D
CALSCALE:GREGORIAN
BEGIN:VEVENT
DTSTART:20250427T000000Z
DTEND:20250427T020000Z
X-MICROSOFT-CDO-ALLDAYEVENT:FALSE
SUMMARY:The Breakers- A Tribute to Tom Petty
DESCRIPTION:The country's premier Tom Petty & the Heartbreakers tribute band.\n\nEstablished to let the fans of the late great Tom Petty continue to enjoy the live experience of TP & the HB's. No other Tom Petty tribute band comes close to capturing the SOUND and emotions of Tom's songs quite like the Breakers.\n\nUnlike the vast amount of Tom Petty tributes who substitute visual mimicry for sound\, the Breakers encompass the true unmistakable sound and execution of Tom Petty & the Heartbreakers.
X-ALT-DESC;FMTTYPE=text/html:<p>The country&#39\;s premier Tom Petty &amp\; the Heartbreakers tribute band.</p>\n\n<p>Established to let the fans of the late great Tom Petty continue to enjoy the live experience of TP &amp\; the HB&rsquo\;s. No other Tom Petty tribute band comes close to capturing the SOUND and emotions of Tom&rsquo\;s songs quite like the Breakers.</p>\n\n<p>Unlike the vast amount of Tom Petty tributes who substitute visual mimicry for sound\, the Breakers encompass the true unmistakable sound and execution of Tom Petty &amp\; the Heartbreakers.</p>\n
LOCATION:The Cabot 286 Cabot St Beverly\, MA 01915
UID:e.2981.35167
SEQUENCE:3
DTSTAMP:20260424T140235Z
URL:https://business.capeannchamber.com/events/details/the-breakers-a-tribute-to-tom-petty-35167
END:VEVENT

END:VCALENDAR
