BEGIN:VCALENDAR
VERSION:2.0
PRODID:-//ChamberMaster//Event Calendar 2.0//EN
METHOD:PUBLISH
X-PUBLISHED-TTL:P3D
REFRESH-INTERVAL:P3D
CALSCALE:GREGORIAN
BEGIN:VEVENT
DTSTART:20251015T183000Z
DTEND:20251015T223000Z
X-MICROSOFT-CDO-ALLDAYEVENT:FALSE
SUMMARY:The Backyard Growcery
DESCRIPTION:Join us at Gloucester's farmers market\, the Backyard Growcery\, brought to life by Backyard Growers every Wednesday from 2:30-6:30pm at Burnham's Field in downtown Gloucester\, Massachusetts.\n\nThe Backyard Growcery brings fresh\, local food to our community while supporting small-scale farms and up-and-coming food businesses. It's more than just a market it's a space to connect\, learn\, and grow together. Stop by weekly to shop seasonal local veggies and other fresh foods\, join free arts\, vegetable & pollinator gardening workshops\, connect with family & friends\, and support a vibrant local food system right in your own backyard!\n\nThe Growcery proudly accepts SNAP/EBT\, WIC and Senior Farmers Market Coupons. Plus\, this year\, the Backyard Growcery is doubling the number of vendors at the market who accept WIC and Senior Farmers Market Coupons. SNAP users can visit the Backyard Growers table every week to receive extra cash to spend at the market through Market Mint\, Backyard Growers' $5 SNAP match.\n\nVendors include:\n\nCedar Rock Gardens\n\nMarshview Farm\n\nFirst Light Farms\n\nBonny Breads\n\nWild Heart\n\nUnderground Mushroom\n\nRhea Pizzeria Napoletana\n\nHigh Tide Farm\n\nAnd more!\n\nPlus\, keep an eye out for pop-up appearances from other North Shore food vendors and producers all season long.\n\nSee you at Burnham's!
X-ALT-DESC;FMTTYPE=text/html:<div>\n<div>\n<div style="margin-left:-17px\; margin-right:-17px">\n<div>\n<div>\n<div>\n<div>\n<p>Join us at Gloucester&rsquo\;s farmers market\, the <a href="https://www.backyardgrowers.org/backyard-growcery" style="background-image: unset\; background-position: unset\; background-size: unset\; background-repeat: unset\; background-attachment: initial\; background-origin: initial\; background-clip: initial\; background-color: initial\; cursor: pointer\; color: rgb(238\, 205\, 77)\; text-decoration-thickness: 1px\; text-decoration-style: solid\; text-decoration-color: currentcolor\; white-space: initial\; text-underline-offset: 0.2em\; text-decoration-skip-ink: auto\; overflow-wrap: break-word\;"><span style="color:rgb(231\, 72\, 188)">Backyard Growcery</span></a>\, brought to life by Backyard Growers every Wednesday from 2:30-6:30pm at Burnham&rsquo\;s Field in downtown Gloucester\, Massachusetts.</p>\n\n<p>The Backyard Growcery brings fresh\, local food to our community while supporting small-scale farms and up-and-coming food businesses. It&rsquo\;s more than just a market&mdash\;it&rsquo\;s a space to connect\, learn\, and grow together. Stop by weekly to shop seasonal local veggies and other fresh foods\, join free arts\, vegetable &amp\; pollinator gardening workshops\, connect with family &amp\; friends\, and support a vibrant local food system right in your own backyard!</p>\n\n<p>The Growcery proudly accepts SNAP/EBT\, WIC and Senior Farmers Market Coupons. Plus\, this year\, the Backyard Growcery is doubling the number of vendors at the market who accept WIC and Senior Farmers Market Coupons. SNAP users can visit the Backyard Growers table every week to receive extra cash to spend at the market through Market Mint\, Backyard Growers&#39\; $5 SNAP match.</p>\n\n<p>Vendors include:</p>\n\n<p><a href="http://www.cedarrockgardens.com/" style="background-image: unset\; background-position: unset\; background-size: unset\; background-repeat: unset\; background-attachment: initial\; background-origin: initial\; background-clip: initial\; background-color: initial\; cursor: pointer\; color: rgb(238\, 205\, 77)\; text-decoration-thickness: 1px\; text-decoration-style: solid\; text-decoration-color: currentcolor\; white-space: initial\; text-underline-offset: 0.2em\; text-decoration-skip-ink: auto\; overflow-wrap: break-word\;"><span style="color:rgb(231\, 72\, 188)">Cedar Rock Gardens</span></a></p>\n\n<p><a href="https://www.marshview.farm/" style="background-image: unset\; background-position: unset\; background-size: unset\; background-repeat: unset\; background-attachment: initial\; background-origin: initial\; background-clip: initial\; background-color: initial\; cursor: pointer\; color: rgb(238\, 205\, 77)\; text-decoration-thickness: 1px\; text-decoration-style: solid\; text-decoration-color: currentcolor\; white-space: initial\; text-underline-offset: 0.2em\; text-decoration-skip-ink: auto\; overflow-wrap: break-word\;"><span style="color:rgb(231\, 72\, 188)">Marshview Farm</span></a></p>\n\n<p><a href="https://www.firstlightfarmcsa.com/#/" style="background-image: unset\; background-position: unset\; background-size: unset\; background-repeat: unset\; background-attachment: initial\; background-origin: initial\; background-clip: initial\; background-color: initial\; cursor: pointer\; color: rgb(238\, 205\, 77)\; text-decoration-thickness: 1px\; text-decoration-style: solid\; text-decoration-color: currentcolor\; white-space: initial\; text-underline-offset: 0.2em\; text-decoration-skip-ink: auto\; overflow-wrap: break-word\;"><span style="color:rgb(231\, 72\, 188)">First Light Farms</span></a></p>\n\n<p><a href="https://bonnybreads.com/" style="background-image: unset\; background-position: unset\; background-size: unset\; background-repeat: unset\; background-attachment: initial\; background-origin: initial\; background-clip: initial\; background-color: initial\; cursor: pointer\; color: rgb(238\, 205\, 77)\; text-decoration-thickness: 1px\; text-decoration-style: solid\; text-decoration-color: currentcolor\; white-space: initial\; text-underline-offset: 0.2em\; text-decoration-skip-ink: auto\; overflow-wrap: break-word\;"><span style="color:rgb(231\, 72\, 188)">Bonny Breads</span></a></p>\n\n<p><a href="https://www.wildheartvegan.com/" style="background-image: unset\; background-position: unset\; background-size: unset\; background-repeat: unset\; background-attachment: initial\; background-origin: initial\; background-clip: initial\; background-color: initial\; cursor: pointer\; color: rgb(238\, 205\, 77)\; text-decoration-thickness: 1px\; text-decoration-style: solid\; text-decoration-color: currentcolor\; white-space: initial\; text-underline-offset: 0.2em\; text-decoration-skip-ink: auto\; overflow-wrap: break-word\;"><span style="color:rgb(231\, 72\, 188)">Wild Heart</span></a></p>\n\n<p><a href="https://undergroundmushroom.com/" style="background-image: unset\; background-position: unset\; background-size: unset\; background-repeat: unset\; background-attachment: initial\; background-origin: initial\; background-clip: initial\; background-color: initial\; cursor: pointer\; color: rgb(238\, 205\, 77)\; text-decoration-thickness: 1px\; text-decoration-style: solid\; text-decoration-color: currentcolor\; white-space: initial\; text-underline-offset: 0.2em\; text-decoration-skip-ink: auto\; overflow-wrap: break-word\;"><span style="color:rgb(231\, 72\, 188)">Underground Mushroom</span></a></p>\n\n<p><a href="https://www.rheapizzerianapoletana.com/" style="background-image: unset\; background-position: unset\; background-size: unset\; background-repeat: unset\; background-attachment: initial\; background-origin: initial\; background-clip: initial\; background-color: initial\; cursor: pointer\; color: rgb(238\, 205\, 77)\; text-decoration-thickness: 1px\; text-decoration-style: solid\; text-decoration-color: currentcolor\; white-space: initial\; text-underline-offset: 0.2em\; text-decoration-skip-ink: auto\; overflow-wrap: break-word\;"><span style="color:rgb(231\, 72\, 188)">Rhea Pizzeria Napoletana</span></a></p>\n\n<p>High Tide Farm</p>\n\n<p>And more!</p>\n\n<p>Plus\, keep an eye out for pop-up appearances from other North Shore food vendors and producers all season long.</p>\n\n<p>See you at Burnham&rsquo\;s!</p>\n</div>\n</div>\n</div>\n</div>\n</div>\n</div>\n</div>\n
LOCATION:Burnham's Field Gloucester\, Mass.
UID:e.2981.36813
SEQUENCE:3
DTSTAMP:20260425T024039Z
URL:https://business.capeannchamber.com/events/details/the-backyard-growcery-10-15-2025-36813
END:VEVENT

END:VCALENDAR
