BEGIN:VCALENDAR
VERSION:2.0
PRODID:-//ChamberMaster//Event Calendar 2.0//EN
METHOD:PUBLISH
X-PUBLISHED-TTL:P3D
REFRESH-INTERVAL:P3D
CALSCALE:GREGORIAN
BEGIN:VEVENT
DTSTART:20241208T010000Z
DTEND:20241208T033000Z
X-MICROSOFT-CDO-ALLDAYEVENT:FALSE
SUMMARY:The Aimee Mann & Ted Leo Christmas Show
DESCRIPTION:Ft. Paul F. Tompkins\, Nellie McKay & Josh Gondelman\n\n\n"Delightful a Santa-stupefying balance of naughty and nice with the giddy warmth of an eggnog buzz. Hangover included\, of course."   New York Times\n\n\n\n"Genuine\, irony-free good cheer had been spread\, making Mann's Christmas extravaganza one of the season's best gifts."   Boston Herald\n\n\n\nAimee Mann and Ted Leo began collaborating\, under the inconspicuous band name the Both\, in 2013. The pairing revealed two artists with more in common than one might suspect. Mann\, a generational singer-songwriter\, was\, in her formative years\, a punk\, before coming up playing in the New Wave favorites 'Til Tuesday\, and eventually turning to the wry ballads for which she is revered. Leo\, a New Jersey-bred punk hero\, is a biting lyricist attuned to the nuances of pop songcraft. Both are fiercely independent artists\, free to follow their muses where they travel even if that happens to be a holiday variety show that mixes jovial Christmas classics with piquant original songs. A seasonal tradition for Mann since 2006\, the concert includes sketches and guests from both musical and comedic realms.   New Yorker Magazine
X-ALT-DESC;FMTTYPE=text/html:<p><strong>Ft. Paul F. Tompkins\, Nellie McKay &amp\; Josh Gondelman</strong></p>\n\n<div>\n<p>&ldquo\;Delightful&hellip\;a Santa-stupefying balance of naughty and nice&hellip\;with the giddy warmth of an eggnog buzz. Hangover included\, of course.&rdquo\; &ndash\; New York Times</p>\n</div>\n\n<div>\n<p>&ldquo\;Genuine\, irony-free good cheer had been spread\, making Mann&rsquo\;s Christmas extravaganza one of the season&rsquo\;s best gifts.&rdquo\; &ndash\; Boston Herald</p>\n</div>\n\n<div>\n<p>Aimee Mann and Ted Leo began collaborating\, under the inconspicuous band name the Both\, in 2013. The pairing revealed two artists with more in common than one might suspect. Mann\, a generational singer-songwriter\, was\, in her formative years\, a punk\, before coming up playing in the New Wave favorites &rsquo\;Til Tuesday\, and eventually turning to the wry ballads for which she is revered. Leo\, a New Jersey-bred punk hero\, is a biting lyricist attuned to the nuances of pop songcraft. Both are fiercely independent artists\, free to follow their muses where they travel&mdash\;even if that happens to be a holiday variety show that mixes jovial Christmas classics with piquant original songs. A seasonal tradition for Mann since 2006\, the concert includes sketches and guests from both musical and comedic realms. &ndash\; New Yorker Magazine</p>\n</div>\n
LOCATION:The Cabot 286 Cabot Street Beverly\, MA 01915
UID:e.2981.34180
SEQUENCE:3
DTSTAMP:20260424T123647Z
URL:https://business.capeannchamber.com/events/details/the-aimee-mann-ted-leo-christmas-show-34180
END:VEVENT

END:VCALENDAR
