BEGIN:VCALENDAR
VERSION:2.0
PRODID:-//ChamberMaster//Event Calendar 2.0//EN
METHOD:PUBLISH
X-PUBLISHED-TTL:P3D
REFRESH-INTERVAL:P3D
CALSCALE:GREGORIAN
BEGIN:VEVENT
DTSTART:20250411T000000Z
DTEND:20250411T020000Z
X-MICROSOFT-CDO-ALLDAYEVENT:FALSE
SUMMARY:The Secret Sisters
DESCRIPTION:Grammy-nominated duo The Secret Sisters brings their signature harmonies and heartfelt storytelling to the stage\, featuring songs from their critically acclaimed new album\, Mind\, Man\, Medicine. Hailed as "a masterpiece\," their fifth release blends country-folk roots with soulful melodies and introspective lyrics. Experience an evening of spellbinding music as Laura Rogers and Lydia Slagle explore life's joys\, challenges and the beauty of human connection.
X-ALT-DESC;FMTTYPE=text/html:<p><span style="background-color:rgb(250\, 250\, 250)\; color:rgb(0\, 0\, 0)\; font-family:open sans\,helvetica neue\,helvetica\,arial\,sans-serif\; font-size:18px">Grammy-nominated duo The Secret Sisters brings their signature harmonies and heartfelt storytelling to the stage\, featuring songs from their critically acclaimed new album\,&nbsp\;</span><em>Mind\, Man\, Medicine</em><span style="background-color:rgb(250\, 250\, 250)\; color:rgb(0\, 0\, 0)\; font-family:open sans\,helvetica neue\,helvetica\,arial\,sans-serif\; font-size:18px">. Hailed as &ldquo\;a masterpiece\,&rdquo\; their fifth release blends country-folk roots with soulful melodies and introspective lyrics. Experience an evening of spellbinding music as Laura Rogers and Lydia Slagle explore life&rsquo\;s joys\, challenges and the beauty of human connection.</span></p>\n
LOCATION:37 Main St\, Rockport\, MA 01966
UID:e.2981.35177
SEQUENCE:3
DTSTAMP:20260424T140112Z
URL:https://business.capeannchamber.com/events/details/the-35177
END:VEVENT

END:VCALENDAR
