BEGIN:VCALENDAR
VERSION:2.0
PRODID:-//ChamberMaster//Event Calendar 2.0//EN
METHOD:PUBLISH
X-PUBLISHED-TTL:P3D
REFRESH-INTERVAL:P3D
CALSCALE:GREGORIAN
BEGIN:VEVENT
DTSTART;VALUE=DATE:20210503
DTEND;VALUE=DATE:20210508
TRANSP:TRANSPARENT
X-MICROSOFT-CDO-ALLDAYEVENT:TRUE
SUMMARY:Teacher Appreciate Week at Minglewood Harborside
DESCRIPTION:We want to celebrate the AMAZING teachers in our community! \n\n \n\nAnyone who identifies themselves as a teacher at Minglewood Harborside or Cala's during Teacher Appreciation Week (May 3rd - 7th) will receive 10% off their meal.\n\n \n\nOR use the code TEACHER to receive 10% off when ordering takeout or delivery online.
X-ALT-DESC;FMTTYPE=text/html:<p style="text-align: center\;"><strong>We want to celebrate the AMAZING teachers in our community!&nbsp\;</strong></p>\n\n<p style="text-align: center\;">&nbsp\;</p>\n\n<p style="text-align: center\;"><strong>Anyone who identifies&nbsp\;</strong><strong>themselves</strong><strong>&nbsp\;as a teacher at&nbsp\;<a href="https://minglewoodharborside.com/">Minglewood Harborside</a>&nbsp\;or&nbsp\;<a href="http://calasrestaurant.com/">Cala&#39\;s</a>&nbsp\;during Teacher&nbsp\;</strong><strong>Appreciation</strong><strong>&nbsp\;Week (May 3rd - 7th) will receive 10% off their meal.</strong></p>\n\n<p style="text-align: center\;">&nbsp\;</p>\n\n<p style="text-align: center\;"><strong>OR use the code TEACHER to receive 10% off when ordering takeout or delivery&nbsp\;<a href="https://click.pxsweb.com/AgClF5onWzCs_zb-Xg20acSdqXZfIftcmt1Mo3awTUP_gtM6yx56fB7tVDASuCcf3xnzPf8HA-k3hUsI2zWy5KN0BjHJ517jirw-zWuBMIrRmXpC06LCc-zA72kRP-v2cx42OJsl2Yj_T--3jUM0W-mu_PdBdoAVTIRd3TYnt7-T9h7CNR2YwCWyis0_Uy_jXesDoxy17-mM_zAgHIDDH-hSrkF-ctrpc_ylwRnHUyWPmDObWl1m7fqj3e6fAniNd9OF98MDTNOnIFQ_e-1GHf0VIlEQ8bizEMAKyPVCMb7ojmLfup_2GJxBzjozPe9XUuYljxrpN5mHudn-iS5In1vDUOaUJhcgKLxt3bZySwi9EWZdh5fmQHeXi-UMg5oymMIhths2P5uE7BiP7GlL9SPSdy1BUsBRGWy5-tVITSlHmmwuxzX5Yqy5KhpzrdifWULxM3WdvMF1kQCbQsBRijUSUNYj_5D8pa9Fi6wEtssk4Iyx1VL6qlbke2EBi0dK9xHwtqD70O3RKanmLPFL6XEG8iuqtj8JQ0jJBBsmghSf5CVdPooCiYcP1deo-NrTa-vkaeJ-g_D9JEFRaw7iFLAXgYr0p-JiWgCebfENQZNymK8ty6WRTj6QZERzLnO3POat_Gh3YeFEwy-BYWA9BSN7Vg3DIY-ofxodVSeQhCkgTvdvMBVUgj58RhDbZ5F4gf3jd2J0x7MclV8ub5X4E8LLyzQlA9YADWj7ScYu2vE3gdUDldznJ7pS5mOayaXGr-kPDetyFdPRdyC9hys_kqYyJ6zVEXBWvrYqQWY-s7f7Ys0UlJZOJpqhA08NlNLeOdJhG4M4yA82J36W3XctcxfnXPBBV4H9DM7QObu_qq6S0VGMy0EWZq6w34YkYIdpctZysJFD7hNxi6stCQr0eoxv" rel="noopener" style="color: rgb(9\, 69\, 127)\;" target="_blank"><span style="color: rgb(0\, 0\, 128)\;">online.</span></a></strong></p>\n
LOCATION:25 Rogers Street Gloucester 7 Beach Street Manchester-by-the-Sea
UID:e.2981.20762
SEQUENCE:3
DTSTAMP:20260425T130301Z
URL:https://business.capeannchamber.com/events/details/teacher-appreciate-week-at-minglewood-harborside-20762
END:VEVENT

END:VCALENDAR
