BEGIN:VCALENDAR
VERSION:2.0
PRODID:-//ChamberMaster//Event Calendar 2.0//EN
METHOD:PUBLISH
X-PUBLISHED-TTL:P3D
REFRESH-INTERVAL:P3D
CALSCALE:GREGORIAN
BEGIN:VEVENT
DTSTART:20250728T123000Z
DTEND:20250728T170000Z
X-MICROSOFT-CDO-ALLDAYEVENT:FALSE
SUMMARY:Swing into Summer- A Women's Golf Event 2025
DESCRIPTION:DOWNLOAD FLYER | DOWNLOAD SPONSORSHIP FORM\n\n\n\nPlease Join the Businesswomen of greater Cape Ann for our Third Annual 'Swing into Summer' Golf Event (rescheduled from May 5) at the Rockport Golf Club. \n\n\n\nNewcomers are invited start their day with basic instructions taught by Golf Pro\, Steve Clayton at 8:30 AM. The Shotgun start will be sounded promptly at 10:00 AM for 9 holes of 'Scramble' format\, to keep our foursomes moving at a good pace.  \n\n\n\nThis event is for players of all levels- from first timers to accomplished players. There will be at least one experienced player in each foursome. Plan on enjoying a great day with other women while learning a game that is so important for 'doing business on the course'.\n\n\n\n*Please note: A set of golf clubs for each player is required to attend. If you are brand new to Golf and need to borrow or purchase a set\, you can likely get by with just three clubs for the day. Please contact Michelle with any questions (978-283-1601).
X-ALT-DESC;FMTTYPE=text/html:<span style="font-size:14px\;"><strong><span style="color:#006400\;"><a href="https://chambermaster.blob.core.windows.net/userfiles/UserFiles/chambers/2981/File/Swing-into-Summer-Flyer-July15-2025B.pdf">DOWNLOAD FLYER</a> | <a href="https://chambermaster.blob.core.windows.net/userfiles/UserFiles/chambers/2981/File/2025-BWCGolf-SponsorshipFormFinalFeb32025Fillable.pdf">DOWNLOAD SPONSORSHIP FORM</a></span><br />\n<br />\n<span style="color:#006400\;">Please Join the Businesswomen of greater Cape Ann for our Third Annual &#39\;Swing into Summer&#39\; Golf Event (rescheduled from May 5) at the Rockport Golf Club.&nbsp\;<br />\n<br />\nNewcomers are invited start their day with basic instructions taught by <span style="font-family:arial\;">Golf Pro\,</span>&nbsp\;Steve Clayton at 8:30 AM.</span></strong></span><strong><span style="color:#006400\;"><span style="font-family:arial\;">&nbsp\;</span></span></strong><span style="font-size:14px\;"><strong><span style="color:#006400\;">The Shotgun start will be sounded promptly at 10:00 AM for 9 holes of &#39\;Scramble&#39\; format\, to keep our foursomes moving at a good pace.&nbsp\;&nbsp\;<br />\n<br />\nThis event is for players of all levels- from first timers to accomplished players. There will be at least one experienced player in each foursome. Plan on enjoying a great day with other women while learning a game that is so important for &#39\;doing business on the course&#39\;.</span></strong><br />\n<br />\n<span style="color:#FF8C00\;"><strong>*Please note:</strong> <strong>A set of golf clubs for each player is required to attend. If you are brand new to Golf and need to borrow or purchase a set\, you can likely get by with just three clubs for the day. Please contact Michelle with any questions (978-283-1601).</strong></span></span><br />\n<br />\n&nbsp\;
LOCATION:Rockport Golf Club
UID:e.2981.37308
SEQUENCE:3
DTSTAMP:20260424T223259Z
URL:https://business.capeannchamber.com/events/details/swing-into-summer-a-women-s-golf-event-2025-37308
END:VEVENT

END:VCALENDAR
