BEGIN:VCALENDAR
VERSION:2.0
PRODID:-//ChamberMaster//Event Calendar 2.0//EN
METHOD:PUBLISH
X-PUBLISHED-TTL:P3D
REFRESH-INTERVAL:P3D
CALSCALE:GREGORIAN
BEGIN:VEVENT
DTSTART:20250406T223000Z
DTEND:20250407T003000Z
X-MICROSOFT-CDO-ALLDAYEVENT:FALSE
SUMMARY:Sweet Seduction: The Art of Flirting
DESCRIPTION:Mmmm  get ready to tease\, tempt\, and tantalize your partner!  This fun\, flirty\, interactive date night workshop is all about tapping into your most confident\, seductive self while learning how to express your flirty playfulness. And since pleasure and seduction should always come with a little indulgence\, you'll be sipping on sensual cocktails and savoring decadently naughty desserts. We will guide you through the secrets of sensual communication\, some mild\, medium and spicy flirtation challenges\, and the power of... anticipation.\n\nWhether you're looking to deepen your emotional connection or ignite the spark in your relationship\, this experience will leave you feeling playfully empowered and inspired.\n\n This event is focusing on the Art of Flirting and will be the first in a four part Sweet Seduction series. Tickets\, priced per couple\, include the workshop and a Welcome Reception where guests can nibble on aphrodisiacs and sip samples of the sultry specialty cocktails and mocktails.
X-ALT-DESC;FMTTYPE=text/html:<p style="margin-left:30pt\; margin-right:30pt"><span style="font-family:trebuchet ms\,sans-serif\; font-size:9pt">Mmmm&hellip\; get ready to tease\, tempt\, and tantalize your partner!&nbsp\; This fun\, flirty\, <strong>interactive date night workshop</strong> is all about tapping into your most confident\, seductive self while learning how to express your flirty playfulness. And since pleasure and seduction should always come with a little indulgence\, you&rsquo\;ll be sipping on <strong>sensual cocktails</strong> and savoring decadently <strong>naughty desserts</strong>. We will guide you through the secrets of sensual communication\, some mild\, medium and spicy flirtation challenges\, and the power of... anticipation.</span></p>\n\n<p style="margin-left:30pt\; margin-right:30pt"><span style="font-family:trebuchet ms\,sans-serif\; font-size:9pt">Whether you&rsquo\;re looking to deepen your emotional connection or ignite the spark in your relationship\, this experience will leave you feeling playfully empowered and inspired.</span></p>\n\n<p style="margin-left:30pt\; margin-right:30pt"><span style="font-family:trebuchet ms\,sans-serif\; font-size:9pt">&nbsp\;</span><span style="font-family:trebuchet ms\,sans-serif\; font-size:9pt">This event is focusing on the Art of Flirting and will be the first in a four part Sweet Seduction series. Tickets\, priced per couple\, include the workshop and a Welcome Reception where guests can nibble on aphrodisiacs and sip samples of the sultry specialty cocktails and mocktails.</span></p>\n\n<div>&nbsp\;</div>\n
LOCATION:Hollowed Ground @ Dire Wolf Tavern 87 Washington Street Salem\, MA 01970
UID:e.2981.35154
SEQUENCE:3
DTSTAMP:20260424T141236Z
URL:https://business.capeannchamber.com/events/details/sweet-seduction-the-art-of-flirting-35154
END:VEVENT

END:VCALENDAR
