BEGIN:VCALENDAR
VERSION:2.0
PRODID:-//ChamberMaster//Event Calendar 2.0//EN
METHOD:PUBLISH
X-PUBLISHED-TTL:P3D
REFRESH-INTERVAL:P3D
CALSCALE:GREGORIAN
BEGIN:VEVENT
DTSTART:20250807T220000Z
DTEND:20250808T000000Z
X-MICROSOFT-CDO-ALLDAYEVENT:FALSE
SUMMARY:Sunset Music Sail - Featuring Jordan Anderson - New Orleans Soul/Rock
DESCRIPTION:We're thrilled to welcome the incredible Jordan Anderson on board   a renowned New Orleans pianist and singer known for his signature blend of soul\, funk\, and jazz that channels the heartbeat of the Crescent City.\n\nJordan has played with some of the most celebrated names in New Orleans music and is bringing his unmistakable style to the deck of the Lannon for one unforgettable night.\n\n\n\nExpect smooth grooves\, salty air\, and the kind of magic that only happens when New Orleans soul meets the sea.\n\nSet sail with us\, grab a drink\, and let the music carry you.\n\n\n\nAugust 7th - 6pm to 8pm\n\n\n\nTickets available online at www.schooner.org
X-ALT-DESC;FMTTYPE=text/html:<div>We&#39\;re thrilled to welcome the incredible Jordan Anderson on board &mdash\; a renowned New Orleans pianist and singer known for his signature blend of soul\, funk\, and jazz that channels the heartbeat of the Crescent City.</div>\n\n<div>Jordan has played with some of the most celebrated names in New Orleans music and is bringing his unmistakable style to the deck of the Lannon for one unforgettable night.</div>\n\n<div><br />\nExpect smooth grooves\, salty air\, and the kind of magic that only happens when New Orleans soul meets the sea.</div>\n\n<div>Set sail with us\, grab a drink\, and let the music carry you.</div>\n\n<div><br />\nAugust 7th - 6pm to 8pm</div>\n\n<div><br />\nTickets available online at&nbsp\;<a class="x1i10hfl xjbqb8w x1ejq31n x18oe1m7 x1sy0etr xstzfhl x972fbf x10w94by x1qhh985 x14e42zd x9f619 x1ypdohk xt0psk2 xe8uvvx xdj266r x14z9mp xat24cr x1lziwak xexx8yu xyri2b x18d9i69 x1c1uobl x16tdsg8 x1hl2dhg xggy1nq x1a2a7pz xkrqix3 x1sur9pj x1fey0fg x1s688f" href="http://www.schooner.org/?fbclid=IwZXh0bgNhZW0CMTAAYnJpZBExbHp4WW5QWXJta0ppMVY2dwEeX8XtDM1P6AaEom22ARcQEBWTfHQcqaFO2YKVTHYJvKVMVYrtAysPJiTwVng_aem_T0dWfQh7SaKficXEUkRt4g" rel="nofollow noreferrer" style="color: rgb(0\, 100\, 209)\; cursor: pointer\; text-decoration-line: none\; list-style: none\; border-width: 0px\; margin: 0px\; text-align: inherit\; border-style: none\; padding: 0px\; box-sizing: border-box\; background-color: transparent\; outline: none\; -webkit-tap-highlight-color: transparent\; font-weight: 600\; touch-action: manipulation\; display: inline\; font-family: inherit\;" tabindex="0" target="_blank">www.schooner.org</a>&nbsp\;</div>\n
LOCATION:Schooner Thomas E. Lannon 63R Rogers Street Gloucester\, MA 01930
UID:e.2981.41378
SEQUENCE:3
DTSTAMP:20260425T011627Z
URL:https://business.capeannchamber.com/events/details/sunset-music-sail-featuring-jordan-anderson-new-orleans-soul-rock-41378
END:VEVENT

END:VCALENDAR
