BEGIN:VCALENDAR
VERSION:2.0
PRODID:-//ChamberMaster//Event Calendar 2.0//EN
METHOD:PUBLISH
X-PUBLISHED-TTL:P3D
REFRESH-INTERVAL:P3D
CALSCALE:GREGORIAN
BEGIN:VEVENT
DTSTART:20250906T150000Z
DTEND:20250906T170000Z
X-MICROSOFT-CDO-ALLDAYEVENT:FALSE
SUMMARY:Sun Prints with Photographer Patricia Scialo
DESCRIPTION:Saturday\, September 6\, 2025\n\n11:00 a.m. 1:00 p.m.\n\n$25 for Members. $35 for Non-Members.\n\nRegistration Required\n\nRain date: Sunday\, September 7\, 11:00 a.m.   1:00 p.m.\n\nCreate sun prints on fabric using drawings and cut paper designs using the historic cyanotype process. The fabric can be used as pillow covers or added to clothing. We will also incorporate found objects and botanicals. Bring found objects from home for a personalized print! \n\nPlus\, join Scialo for a pop-up exhibition of her cyanotype work in the White-Ellery House from 2:00 3:00 p.m. Pop-up is free and open to the public. \n\n \n\nAbout the artist: Patricia Scialo is a fine art photographer specializing in historic photographic processes and hand printing techniques\, drawing inspiration from light\, nature\, and the human form. She is the 2020 winner of the Julia Margaret Cameron Gala Awards\, Barcelona\, professional section\, in the categories of Abstract\, Alternative Processes\, and Children. \n\n \n\nImage Credit: Patricia Scialo\, cyanotype print on a silk scarf. Photo courtesy of the artist.
X-ALT-DESC;FMTTYPE=text/html:<p>Saturday\, September 6\, 2025<br />\n11:00 a.m.&mdash\;1:00 p.m.<br />\n<em>$25 for Members. $35 for Non-Members.</em><br />\n<em><a href="https://115461a.blackbaudhosting.com/115461a/Sun-Prints-with-Photographer-Patricia-Scialo" style="box-sizing: border-box\; margin: 0px\; padding: 0px\; border-width: 0px 0px 1px\; border-top-style: initial\; border-right-style: initial\; border-bottom-style: solid\; border-left-style: initial\; border-color: rgb(211\, 211\, 211)\; border-image: initial\; font-style: normal\; font-variant: inherit\; font-weight: inherit\; font-stretch: inherit\; font-size: inherit\; line-height: inherit\; font-family: inherit\; font-optical-sizing: inherit\; font-size-adjust: inherit\; font-kerning: inherit\; font-feature-settings: inherit\; font-variation-settings: inherit\; vertical-align: baseline\; text-decoration-line: none\; outline: 0px\; max-width: 100%\; color: rgb(37\, 119\, 160)\; transition: color 0.2s\;">Registration Required</a></em><br />\n<em>Rain date: Sunday\, September 7\, 11:00 a.m. &ndash\; 1:00 p.m.</em></p>\n\n<p>Create sun prints on fabric using drawings and cut paper designs using the historic cyanotype process. The fabric can be used as pillow covers or added to clothing. We will also incorporate found objects and botanicals. Bring found objects from home for a personalized print!&nbsp\;</p>\n\n<p>Plus\, join Scialo for a pop-up exhibition of her cyanotype work in the White-Ellery House from 2:00&mdash\;3:00 p.m.&nbsp\;<em>Pop-up is free and open to the public.&nbsp\;</em></p>\n\n<p>&nbsp\;</p>\n\n<p><strong>About the artist:</strong>&nbsp\;<a href="https://www.patriciascialo.com/" style="box-sizing: border-box\; margin: 0px\; padding: 0px\; border-width: 0px 0px 1px\; border-top-style: initial\; border-right-style: initial\; border-bottom-style: solid\; border-left-style: initial\; border-color: rgb(211\, 211\, 211)\; border-image: initial\; font-variant: inherit\; font-weight: inherit\; font-stretch: inherit\; font-size: inherit\; line-height: inherit\; font-family: inherit\; font-optical-sizing: inherit\; font-size-adjust: inherit\; font-kerning: inherit\; font-feature-settings: inherit\; font-variation-settings: inherit\; vertical-align: baseline\; text-decoration-line: none\; outline: 0px\; max-width: 100%\; color: rgb(37\, 119\, 160)\; transition: color 0.2s\;">Patricia Scialo</a>&nbsp\;is a fine art photographer specializing in historic photographic processes and hand printing techniques\, drawing inspiration from light\, nature\, and the human form. She is the 2020 winner of the Julia Margaret Cameron Gala Awards\, Barcelona\, professional section\, in the categories of Abstract\, Alternative Processes\, and Children.&nbsp\;</p>\n\n<p>&nbsp\;</p>\n\n<p><em>Image Credit:&nbsp\;Patricia&nbsp\;Scialo\, cyanotype&nbsp\;print&nbsp\;on&nbsp\;a silk&nbsp\;scarf. Photo courtesy of the artist.&nbsp\;</em></p>\n
LOCATION:CAM Green 13 Poplar Street\, Gloucester\, MA
UID:e.2981.37409
SEQUENCE:3
DTSTAMP:20260425T011350Z
URL:https://business.capeannchamber.com/events/details/sun-prints-with-photographer-patricia-scialo-37409
END:VEVENT

END:VCALENDAR
