BEGIN:VCALENDAR
VERSION:2.0
PRODID:-//ChamberMaster//Event Calendar 2.0//EN
METHOD:PUBLISH
X-PUBLISHED-TTL:P3D
REFRESH-INTERVAL:P3D
CALSCALE:GREGORIAN
BEGIN:VEVENT
DTSTART:20241119T230000Z
DTEND:20241120T010000Z
X-MICROSOFT-CDO-ALLDAYEVENT:FALSE
SUMMARY:Summer Season in Review
DESCRIPTION:As summer comes to a close\, Discover Gloucester and the Greater Cape Ann Chamber of Commerce are collaborating to plan this year's Summer Season in Review\, happening Tuesday\, November 12th from 6:00-8:00pm at Gloucester Stage Company. Hear qualitative and quantitative data on the 2024 summer season from industry leaders\, the Chamber of Commerce and Discover Gloucester. Light snacks will be provided along with a cash bar. Planning to attend? Please complete the following RSVP: 2024 Summer Season in Review RSVP
X-ALT-DESC;FMTTYPE=text/html:As summer comes to a close\, Discover Gloucester and the Greater Cape Ann Chamber of Commerce are collaborating to plan this year&#39\;s Summer Season in Review\, happening Tuesday\, November 12th from 6:00-8:00pm at Gloucester Stage Company. Hear qualitative and quantitative data on the 2024 summer season from industry leaders\, the Chamber of Commerce and Discover Gloucester. Light snacks will be provided along with a cash bar. Planning to attend? Please complete the following RSVP:&nbsp\;<a href="https://docs.google.com/forms/d/e/1FAIpQLSemBlEUHPZddAOgSY8awIqQGIeCs0--JHPehN4C9_JDmXnBqQ/viewform">2024 Summer Season in Review RSVP</a>
LOCATION:Gloucester Stage Company 267 E Main St\, Gloucester\, MA 01930
UID:e.2981.34116
SEQUENCE:3
DTSTAMP:20260424T140454Z
URL:https://business.capeannchamber.com/events/details/summer-season-in-review-34116
END:VEVENT

END:VCALENDAR
