BEGIN:VCALENDAR
VERSION:2.0
PRODID:-//ChamberMaster//Event Calendar 2.0//EN
METHOD:PUBLISH
X-PUBLISHED-TTL:P3D
REFRESH-INTERVAL:P3D
CALSCALE:GREGORIAN
BEGIN:VEVENT
DTSTART;VALUE=DATE:20250707
DTEND;VALUE=DATE:20250712
TRANSP:TRANSPARENT
X-MICROSOFT-CDO-ALLDAYEVENT:TRUE
SUMMARY:Summer Pottery Classes
DESCRIPTION:Join Cynthia Curtis Pottery for the next 8-week Pottery Class session starting the week of July 7.\n\n\n\nAll levels of experience - beginners always welcome!\n\n\n\nWheel-throwing ~ Hand Building ~ Glazing\n\nPrivate lessons ~ Independent Study Program ~ Retail Gallery\n\n\n\nRegistration open! To register\, call (978)546-6186 or email: info@cynthiacurtispottery.com
X-ALT-DESC;FMTTYPE=text/html:<span style="font-family:bangla mn\;"><span style="font-size:16.0pt\;">Join Cynthia Curtis Pottery for the next 8-week Pottery Class session starting the week of July 7.<br />\n<br />\nAll levels of experience - beginners always welcome!</span></span><br />\n<br />\n<span style="font-family:bangla mn\;"><span style="font-size:16.0pt\;">Wheel-throwing ~ Hand Building ~ Glazing</span></span><br />\n<span style="font-family:bangla mn\;"><span style="font-size:16.0pt\;">Private lessons ~ Independent Study Program ~ Retail Gallery</span></span><br />\n<br />\n<span style="color:black\;"><span style="font-family:bangla mn\;"><span style="font-size:16.0pt\;">Registration open! To register\, call (978)546-6186 or email: </span></span></span><span style="font-family:times new roman\,serif\;"><span style="font-size:12.0pt\;"><a href="mailto:info@cynthiacurtispottery.com"><span style="color:black\;"><span style="font-family:bangla mn\;"><span style="font-size:16.0pt\;">info@cynthiacurtispottery.com</span></span></span></a></span></span><br />\n&nbsp\;
LOCATION:80 Pigeon Hill Street\, Rockport
UID:e.2981.37307
SEQUENCE:3
DTSTAMP:20260424T222750Z
URL:https://business.capeannchamber.com/events/details/summer-pottery-classes-37307
END:VEVENT

END:VCALENDAR
