BEGIN:VCALENDAR
VERSION:2.0
PRODID:-//ChamberMaster//Event Calendar 2.0//EN
METHOD:PUBLISH
X-PUBLISHED-TTL:P3D
REFRESH-INTERVAL:P3D
CALSCALE:GREGORIAN
BEGIN:VEVENT
DTSTART:20260729T170000Z
DTEND:20260729T200000Z
X-MICROSOFT-CDO-ALLDAYEVENT:FALSE
SUMMARY:Studio Art: Gel Plate Monoprint Workshop with Lesley Davison
DESCRIPTION:Milton Avery and Adolph Gottlieb experimented with monoprints a technique that produces one-of a kind\, painterly prints which allowed them freedom with color and mark-making. Join us to explore mono-printing using a gel plate. Learn how to create unique prints that can stand on their own\, or could be used in mixed media. All materials are supplied.\n\n\n\nNote: This workshop is also being offered on Sunday\, August 2\, 2026.\n\n\n\nLesley Davison currently lives in West Gloucester in the 19th Century Farmhouse her parents bought in 1968\, where she divides her creative time between making collages and mosaic. She has worked teaching art for years and is currently a CAM Educator working with Cape Ann's children and introducing them to the Museum's collections.
X-ALT-DESC;FMTTYPE=text/html:Milton Avery and Adolph Gottlieb experimented with monoprints&mdash\;a technique that produces one-of a kind\, painterly prints which allowed them freedom with color and mark-making. Join us to explore mono-printing using a gel plate. Learn how to create unique prints that can stand on their own\, or could be used in mixed media. All materials are supplied.<br />\n<br />\nNote: This workshop is also being offered on Sunday\, August 2\, 2026.<br />\n<br />\nLesley Davison currently lives in West Gloucester in the 19th Century Farmhouse her parents bought in 1968\, where she divides her creative time between making collages and mosaic. She has worked teaching art for years and is currently a CAM Educator working with Cape Ann&rsquo\;s children and introducing them to the Museum&rsquo\;s collections.
LOCATION:Education Studio\, Downtown Campus 27 Pleasant Street\, Gloucester\, MA 01930
UID:e.2981.46943
SEQUENCE:3
DTSTAMP:20260424T233440Z
URL:https://business.capeannchamber.com/events/details/studio-art-gel-plate-monoprint-workshop-with-lesley-davison-46943
END:VEVENT

END:VCALENDAR
