BEGIN:VCALENDAR
VERSION:2.0
PRODID:-//ChamberMaster//Event Calendar 2.0//EN
METHOD:PUBLISH
X-PUBLISHED-TTL:P3D
REFRESH-INTERVAL:P3D
CALSCALE:GREGORIAN
BEGIN:VEVENT
DTSTART:20250916T000000Z
DTEND:20250916T020000Z
X-MICROSOFT-CDO-ALLDAYEVENT:FALSE
SUMMARY:Steve Winwood
DESCRIPTION:Joined by Cris Jacobs\n\nSinger-songwriter\, legendary vocalist\, guitarist\, keyboardist\, mandolin player\, producer\, Grammy winner and BMI Icon Steve Winwood has sold over 50 million records in the course of his five-decade career. His compositions include "Gimme Some Lovin'"\, "Back In The High Life Again"\, "Can't Find My Way Home"\, "Arc Of A Diver"\, "Higher Love"\, "Roll With It"\, "While You See A Chance"\, "Dear Mr. Fantasy"\, "Split Decision"\, "The Finer Things"\, "Valerie"\, and "The Low Spark Of High Heeled Boys"\, among many others.
X-ALT-DESC;FMTTYPE=text/html:<p>Joined by Cris Jacobs</p>\n\n<p>Singer-songwriter\, legendary vocalist\, guitarist\, keyboardist\, mandolin player\, producer\, Grammy winner and BMI Icon Steve Winwood has sold over 50 million records in the course of his five-decade career. His compositions include &ldquo\;Gimme Some Lovin&rsquo\;&rdquo\;\, &ldquo\;Back In The High Life Again&rdquo\;\, &ldquo\;Can&rsquo\;t Find My Way Home&rdquo\;\, &ldquo\;Arc Of A Diver&rdquo\;\, &ldquo\;Higher Love&rdquo\;\, &ldquo\;Roll With It&rdquo\;\, &ldquo\;While You See A Chance&rdquo\;\, &ldquo\;Dear Mr. Fantasy&rdquo\;\, &ldquo\;Split Decision&rdquo\;\, &ldquo\;The Finer Things&rdquo\;\, &ldquo\;Valerie&rdquo\;\, and &ldquo\;The Low Spark Of High Heeled Boys&rdquo\;\, among many others.</p>\n
LOCATION:The Cabot 286 Cabot St Beverly\, MA 01915
UID:e.2981.43022
SEQUENCE:3
DTSTAMP:20260425T011101Z
URL:https://business.capeannchamber.com/events/details/steve-winwood-43022
END:VEVENT

END:VCALENDAR
