BEGIN:VCALENDAR
VERSION:2.0
PRODID:-//ChamberMaster//Event Calendar 2.0//EN
METHOD:PUBLISH
X-PUBLISHED-TTL:P3D
REFRESH-INTERVAL:P3D
CALSCALE:GREGORIAN
BEGIN:VEVENT
DTSTART:20260211T140000Z
DTEND:20260211T150000Z
X-MICROSOFT-CDO-ALLDAYEVENT:FALSE
SUMMARY:State Resource Series: MassHire- North Shore Career Center (WEBINAR)
DESCRIPTION:Please join this important webinar to learn about MassHire   North Shore Career Center resources to help businesses. Eliud Alcala\, Deputy Director at MassHire   North Shore Career Center will conduct this webinar and discuss the comprehensive\, no-cost resources available through the MassHire North Shore Career Center to help you attract\, train\, and retain talent including:\n\nBusiness Resources & Recruitment: Discover how to leverage MassHire for Businesses to access a vast pool of qualified local talent and utilize tailored recruitment services.\n\nCareer Fairs & Hiring Events: Learn how to participate in regional career fairs and industry-specific hiring events to streamline your candidate search.\n\nApprenticeship Programs: Understand the benefits of sponsoring a Registered Apprenticeship\, allowing your business to build a pipeline of skilled workers trained to your exact specifications.\n\nIndustry-Specific Training: Explore high-demand training initiatives in Trades\, Manufacturing\, and Healthcare\, including programs like the Career Technical Initiative (CTI) that provide hands-on technical training for your future employees.\n\nRegistration is required to attend this webinar. The Zoom link will be emailed to registrants prior to the webinar.\n\nThis informative webinar is offered at no cost and is being sponsored in partnership with the North Shore Alliance for Economic Development and the Massachusetts Office of Business Development (MOBD).
X-ALT-DESC;FMTTYPE=text/html:<p style="margin-left:0in\; margin-right:0in"><span style="color:#141827\; font-family:proxima-nova\,serif\; font-size:13.5pt">Please join this important webinar to learn about MassHire &ndash\; North Shore Career Center resources to help businesses. Eliud Alcala\, Deputy Director at MassHire &ndash\; North Shore Career Center will conduct this webinar and discuss the comprehensive\, no-cost resources available through the MassHire North Shore Career Center to help you attract\, train\, and retain talent including:</span></p>\n\n<p style="margin-left:0in\; margin-right:0in\; text-align:start"><strong><span style="color:#141827\; font-family:proxima-nova\,serif\; font-size:13.5pt">Business Resources &amp\; Recruitment:</span></strong><span style="color:#141827\; font-family:proxima-nova\,serif\; font-size:13.5pt">&nbsp\;Discover how to leverage MassHire for Businesses to access a vast pool of qualified local talent and utilize tailored recruitment services.</span></p>\n\n<p style="margin-left:0in\; margin-right:0in\; text-align:start"><strong><span style="color:#141827\; font-family:proxima-nova\,serif\; font-size:13.5pt">Career Fairs &amp\; Hiring Events:</span></strong><span style="color:#141827\; font-family:proxima-nova\,serif\; font-size:13.5pt">&nbsp\;Learn how to participate in regional career fairs and industry-specific hiring events to streamline your candidate search.</span></p>\n\n<p style="margin-left:0in\; margin-right:0in\; text-align:start"><strong><span style="color:#141827\; font-family:proxima-nova\,serif\; font-size:13.5pt">Apprenticeship Programs:</span></strong><span style="color:#141827\; font-family:proxima-nova\,serif\; font-size:13.5pt">&nbsp\;Understand the benefits of sponsoring a Registered Apprenticeship\, allowing your business to build a pipeline of skilled workers trained to your exact specifications.</span></p>\n\n<p style="margin-left:0in\; margin-right:0in\; text-align:start"><strong><span style="color:#141827\; font-family:proxima-nova\,serif\; font-size:13.5pt">Industry-Specific Training:</span></strong><span style="color:#141827\; font-family:proxima-nova\,serif\; font-size:13.5pt">&nbsp\;Explore high-demand training initiatives in&nbsp\;<strong><span style="font-family:proxima-nova\,serif">Trades\, Manufacturing\, and Healthcare</span></strong>\, including programs like the Career Technical Initiative (CTI) that provide hands-on technical training for your future employees.</span></p>\n\n<p style="margin-left:0in\; margin-right:0in\; text-align:start"><strong><span style="color:#141827\; font-family:proxima-nova\,serif\; font-size:13.5pt">Registration is required to attend this webinar. The Zoom link will be emailed to registrants prior to the webinar.</span></strong></p>\n\n<p style="margin-left:0in\; margin-right:0in\; text-align:start"><span style="color:#141827\; font-family:proxima-nova\,serif\; font-size:13.5pt">This informative webinar is offered at no cost and is being sponsored in partnership with the&nbsp\;<a href="https://nam02.safelinks.protection.outlook.com/?url=https%3A%2F%2Fr20.rs6.net%2Ftn.jsp%3Ff%3D001tOv4IixMZF1OdWt2u-mUhPW3UFGzRjydp9-sR-oUmphWSv11XM_Dcom6VLmRPtHgyjDGbOsyxkIyCyHhwDfPq4rBR5b4Y19Vl8Qtn77qNsbyNYdlk0Ld4zQD2_7AIlGNmvGDwVw3LlDAbm-t1A-HeWvIIQv-t264OdLzYE4nu080X6AO_ExhxE5Z1hZ_evjA57G6t03hLbJaFGslNOI4feBAuxszRSkBbgHqPxwEttvNZ-EV2KoXVWWk1bS051H0SMWHEOob8HSR-U6KrVgXHnW4UUIeVmMNOJjgPIKZ-uYj_yY2pPPMvCYdamRkoQ7Q_tZEnf8a_-sGjazV-LYYj8JAmmshUBX_gLtGLB5dRXPBTYLjJYvC2gKB4eq6CjB2RKqp5VLCthWE9_e3qeRy_l9ZtUVf0k8iPB7jAw2QwUSzipImaI11e2dNLsh0XaPAezvgbT3i9v15aabU9omROXilxM626b7mIoGMtfXNLNUlOqRg9Q_9AgA4JYErIi71ALBdAaLhS4JDREz4oxG_J5cGRirRM5thZmFPGo7khAAjt_AsNeBTDfKQJu8kz8tsXDX4yLssfTZjQfhNC4TEKFw-TcG8-ymPEGYs015zPYIQCur3__HU3Sc7sUMopspdFSqwVkqM6arh3if-aA_ANTpLFY_8SOAsh5sEijE-BW-RE_kBlEmFdtqMg_g0ld8mwb8PdgsZnI5ydkwgNad4xDtXO8evDkdnPf7je71V5aE5opU9xu4_CouEq2FwPK0zLWTc9QaFgJpiCwmPd31oTVqVbhTw2xI-iCDtHI5svkiIcp7QJFLobc3AHVWgVhBr0n18cXAu6Z3yBEMoSdQJzLEqLBIyjhtLeAHahQTan198GrMfj0QeUNgDq3WyiWDw5qWbCx5wvg86VSYJpOaYgzHRzLbbekxYZrVp5XxlKDJK8mEodCFlfe8uV8CE7eoOw6eEPINT1n_4ha8-gcsop3E1wlZ4q5_cD0pdLrVOPZhcYqeIQCqC4Qbo9evj8yCYZjN7xi_9uG9IupoI1xuoHLezcqvoPawDUDk6QNn657lEDMQlAzV1fRxnOuri0xPv-Lo2tsXCJpPKGFZhSEr0AiN8Mw68eBy7Kt8nB0h5hivVSjwRwoG64A%3D%3D%26c%3Dwa_a8_u_ADn6lsmA8FjBehGvTXdJ-CEJcSMvZpOCR8rK5ZTLlkfWSw%3D%3D%26ch%3DFfakU6EGSKCfturUAIKnN7H0nDocSchUPqHzECuzEqeKFZy4udCcZg%3D%3D&amp\;data=05%7C02%7Cbronan%40enterprisectr.org%7Ccb744eed3cee4a69103c08de4d5a5e56%7Cef01aacfbd5f4da3985b2832a1bf270c%7C0%7C0%7C639033247683022804%7CUnknown%7CTWFpbGZsb3d8eyJFbXB0eU1hcGkiOnRydWUsIlYiOiIwLjAuMDAwMCIsIlAiOiJXaW4zMiIsIkFOIjoiTWFpbCIsIldUIjoyfQ%3D%3D%7C0%7C%7C%7C&amp\;sdata=8KrA1QR8XCO35KYIlAtGwcVQ00ATZ6gbBslyy9PmTkM%3D&amp\;reserved=0" style="box-sizing: border-box\;text-rendering: optimizelegibility\;transition: color 0.2s\;\nbackground-position-x:0px\;background-position-y:0px" target="_blank" title="https://nam02.safelinks.protection.outlook.com/?url=https%3A%2F%2Fr20.rs6.net%2Ftn.jsp%3Ff%3D001tOv4IixMZF1OdWt2u-mUhPW3UFGzRjydp9-sR-oUmphWSv11XM_Dcom6VLmRPtHgyjDGbOsyxkIyCyHhwDfPq4rBR5b4Y19Vl8Qtn77qNsbyNYdlk0Ld4zQD2_7AIlGNmvGDwVw3LlDAbm-t1A-HeWvIIQv-t26"><strong><span style="color:#AE1138\; font-family:proxima-nova\,serif">North Shore Alliance for Economic Development</span></strong></a>&nbsp\;and the&nbsp\;<a href="https://nam02.safelinks.protection.outlook.com/?url=http%3A%2F%2Fr20.rs6.net%2Ftn.jsp%3Ff%3D0010YSTEMIhZKwByy-T2ckvftXsyjOoktLq7xDEnho9kVeqZk_LfcxSFfCg-2y4eYtpp7eMRGbz6sfZgzAyHWO6sGZGL_aC_35OXNLK9F1Te5og8358F4gDJqe2ciZy94Ermmvh7QZe51VtQFtjd_XThva7PKcItDEXx47K5jcfG-jOWYZB5OCY1wp0NHHy1zHAzd4Ebr04CGL4tb9ZQlFwBpdzpMhfy1VZzWYfBD03Y2bR_-e3ULpGRnjoBhT_LiIQCP2cKY97PbFjMlcqdkBQsjtPSeAO77Z5CQUg2AEFEvOBP9bw40GUg1ZXTK5CNARHVTm3rrP88qgdjNVK35HJHu4tRwHmUGQ-HSt3bCx3nLSWGnYWElQxL6eulvJeBX2cN6H24gIDxGOjvt9ZhTQAfCh3jzGQ3H37PjSIDg7aaMZPD-zkktYKaei8ISZ74AZRwu2LmSE7ZJBtAHxbvbf24nOvYlQoSiDA18o1ymKj0eCRoVOXJnHex0UbKcOSz5NJIyafvmuTkrN5CMZBmODDoT0i3Shq4EOTwkGLxta7rbX2eUgIwFqjMpKeLYMKmUB-iyAoOg7FwBCIAlD-MHMF3LBgmWuL3l-41hQf46FH5PXiPRzCYhwfNCZrT0naK-Iuu4wPZdfE2oJg4SQu46iFS-MyOAqVvVm1EOs2Ci8KkWttOlR2MPP5ASLz2m2hmDn49igIzejrCSAKhDgXULsx0hHMV4GVCNk2s14anzZG3Wq45tyEdBqQ_k3xf_AgXWVLi0amf4xWB-A7iP2-khc4_B68mHrML5b-Fa4Hbk-bE-m2ws0B-q9An7A1KUK3T1yTGkGgL6t7OBaALq6_er2lfD8lPVx3a8QVi9gaTzYLmt8gH7qsoyOepVF6NL8dDhUjF8aooRFWfpN7sBAlbSY7FXqc8soloLaIzl6zNUFWia6uvnitcZ2cu2i_rbvfmGasrCuStcU9M_vlA4DFYwyen65SA_h52BUr9n-xQ61U4jvYeGKTsZCQx81BA7pxsSzk_w0xIb-39xUrRBH3vz_qbOZgB_LGw_oyd9h-oMoxT9yGfFnoQo_gR0AbmmXsVm0L6bLYMoGJ4yA30JKz-q7LHdpkbnxD9KbeEs0HgYlLtqHK5vLO28jF-jGvrHW39plzP6TJVRrZIfr_z4pAHX60-fI42vNXGUDQUjS832IHdD6WI7fbwUjbLXGio-dNz0hg%26c%3DhAsle5-kC-eECBpY_EK7yXbv2TAYnr6lFtHSgSHysfZz0sKluSKoFw%3D%3D%26ch%3DSPt32kdDr8FFc_kqxM0AjjJPSrfOaHbyUKY8pmDnsh6Cgi0ZtxLY_A%3D%3D&amp\;data=05%7C02%7Cbronan%40enterprisectr.org%7Ccb744eed3cee4a69103c08de4d5a5e56%7Cef01aacfbd5f4da3985b2832a1bf270c%7C0%7C0%7C639033247683049059%7CUnknown%7CTWFpbGZsb3d8eyJFbXB0eU1hcGkiOnRydWUsIlYiOiIwLjAuMDAwMCIsIlAiOiJXaW4zMiIsIkFOIjoiTWFpbCIsIldUIjoyfQ%3D%3D%7C0%7C%7C%7C&amp\;sdata=WSsgOm%2Fii2etzFlrUuKWCSCHE%2BHvPfkoApaCN6Sqs44%3D&amp\;reserved=0" style="box-sizing: border-box\;text-rendering: optimizelegibility\;transition: color 0.2s\;\nbackground-position-x:0px\;background-position-y:0px" target="_blank" title="https://nam02.safelinks.protection.outlook.com/?url=http%3A%2F%2Fr20.rs6.net%2Ftn.jsp%3Ff%3D0010YSTEMIhZKwByy-T2ckvftXsyjOoktLq7xDEnho9kVeqZk_LfcxSFfCg-2y4eYtpp7eMRGbz6sfZgzAyHWO6sGZGL_aC_35OXNLK9F1Te5og8358F4gDJqe2ciZy94Ermmvh7QZe51VtQFtjd_XThva7PKcItDEX"><strong><span style="color:#AE1138\; font-family:proxima-nova\,serif">Massachusetts Office</span></strong></a>&nbsp\;<a href="https://nam02.safelinks.protection.outlook.com/?url=http%3A%2F%2Fr20.rs6.net%2Ftn.jsp%3Ff%3D0010YSTEMIhZKwByy-T2ckvftXsyjOoktLq7xDEnho9kVeqZk_LfcxSFfCg-2y4eYtpp7eMRGbz6sfZgzAyHWO6sGZGL_aC_35OXNLK9F1Te5og8358F4gDJqe2ciZy94Ermmvh7QZe51VtQFtjd_XThva7PKcItDEXx47K5jcfG-jOWYZB5OCY1wp0NHHy1zHAzd4Ebr04CGL4tb9ZQlFwBpdzpMhfy1VZzWYfBD03Y2bR_-e3ULpGRnjoBhT_LiIQCP2cKY97PbFjMlcqdkBQsjtPSeAO77Z5CQUg2AEFEvOBP9bw40GUg1ZXTK5CNARHVTm3rrP88qgdjNVK35HJHu4tRwHmUGQ-HSt3bCx3nLSWGnYWElQxL6eulvJeBX2cN6H24gIDxGOjvt9ZhTQAfCh3jzGQ3H37PjSIDg7aaMZPD-zkktYKaei8ISZ74AZRwu2LmSE7ZJBtAHxbvbf24nOvYlQoSiDA18o1ymKj0eCRoVOXJnHex0UbKcOSz5NJIyafvmuTkrN5CMZBmODDoT0i3Shq4EOTwkGLxta7rbX2eUgIwFqjMpKeLYMKmUB-iyAoOg7FwBCIAlD-MHMF3LBgmWuL3l-41hQf46FH5PXiPRzCYhwfNCZrT0naK-Iuu4wPZdfE2oJg4SQu46iFS-MyOAqVvVm1EOs2Ci8KkWttOlR2MPP5ASLz2m2hmDn49igIzejrCSAKhDgXULsx0hHMV4GVCNk2s14anzZG3Wq45tyEdBqQ_k3xf_AgXWVLi0amf4xWB-A7iP2-khc4_B68mHrML5b-Fa4Hbk-bE-m2ws0B-q9An7A1KUK3T1yTGkGgL6t7OBaALq6_er2lfD8lPVx3a8QVi9gaTzYLmt8gH7qsoyOepVF6NL8dDhUjF8aooRFWfpN7sBAlbSY7FXqc8soloLaIzl6zNUFWia6uvnitcZ2cu2i_rbvfmGasrCuStcU9M_vlA4DFYwyen65SA_h52BUr9n-xQ61U4jvYeGKTsZCQx81BA7pxsSzk_w0xIb-39xUrRBH3vz_qbOZgB_LGw_oyd9h-oMoxT9yGfFnoQo_gR0AbmmXsVm0L6bLYMoGJ4yA30JKz-q7LHdpkbnxD9KbeEs0HgYlLtqHK5vLO28jF-jGvrHW39plzP6TJVRrZIfr_z4pAHX60-fI42vNXGUDQUjS832IHdD6WI7fbwUjbLXGio-dNz0hg%26c%3DhAsle5-kC-eECBpY_EK7yXbv2TAYnr6lFtHSgSHysfZz0sKluSKoFw%3D%3D%26ch%3DSPt32kdDr8FFc_kqxM0AjjJPSrfOaHbyUKY8pmDnsh6Cgi0ZtxLY_A%3D%3D&amp\;data=05%7C02%7Cbronan%40enterprisectr.org%7Ccb744eed3cee4a69103c08de4d5a5e56%7Cef01aacfbd5f4da3985b2832a1bf270c%7C0%7C0%7C639033247683070059%7CUnknown%7CTWFpbGZsb3d8eyJFbXB0eU1hcGkiOnRydWUsIlYiOiIwLjAuMDAwMCIsIlAiOiJXaW4zMiIsIkFOIjoiTWFpbCIsIldUIjoyfQ%3D%3D%7C0%7C%7C%7C&amp\;sdata=lVqM4vyGhHje48nzpKTD9J%2FvVAt2G5ZjUTFtvlzU0QY%3D&amp\;reserved=0" style="box-sizing: border-box\;text-rendering: optimizelegibility\;transition: color 0.2s\;\nbackground-position-x:0px\;background-position-y:0px" target="_blank" title="https://nam02.safelinks.protection.outlook.com/?url=http%3A%2F%2Fr20.rs6.net%2Ftn.jsp%3Ff%3D0010YSTEMIhZKwByy-T2ckvftXsyjOoktLq7xDEnho9kVeqZk_LfcxSFfCg-2y4eYtpp7eMRGbz6sfZgzAyHWO6sGZGL_aC_35OXNLK9F1Te5og8358F4gDJqe2ciZy94Ermmvh7QZe51VtQFtjd_XThva7PKcItDEX"><strong><span style="color:#AE1138\; font-family:proxima-nova\,serif">of Business Development (MOBD)</span></strong></a>.</span></p>\n
LOCATION:ONLINE-WEBINAR
UID:e.2981.46138
SEQUENCE:3
DTSTAMP:20260422T044909Z
URL:https://business.capeannchamber.com/events/details/state-resource-series-masshire-north-shore-career-center-webinar-46138
END:VEVENT

END:VCALENDAR
