BEGIN:VCALENDAR
VERSION:2.0
PRODID:-//ChamberMaster//Event Calendar 2.0//EN
METHOD:PUBLISH
X-PUBLISHED-TTL:P3D
REFRESH-INTERVAL:P3D
CALSCALE:GREGORIAN
BEGIN:VEVENT
DTSTART:20250909T123000Z
DTEND:20250909T143000Z
X-MICROSOFT-CDO-ALLDAYEVENT:FALSE
SUMMARY:Starting What You Need to Know
DESCRIPTION:Developing your entrepreneurial idea into a profitable business adventure requires tenacity\, curiosity\, courage & the ability to leverage opportunities. This workshop includes a checklist\, practical tips\, and real-world advice on starting a successful business. Learn to:\n\n	Understand the realities\n	Know where to start\n	Define your Value proposition\n\nFacilitator Tom Kristoph
X-ALT-DESC;FMTTYPE=text/html:<span style="color:#222222"><span style="font-family:arial\,sans-serif"><span style="font-size:11.0pt">Developing your entrepreneurial&nbsp\;idea into a profitable business adventure requires tenacity\, curiosity\, courage &amp\; the ability to leverage opportunities. This workshop includes a checklist\, practical tips\, and real-world advice on starting&nbsp\;a successful business. Learn to:</span></span></span>\n<ul>\n	<li><span style="color:#222222"><span style="font-family:arial\,sans-serif"><span style="font-size:11.0pt">Understand the realities</span></span></span></li>\n	<li><span style="color:#222222"><span style="font-family:arial\,sans-serif"><span style="font-size:11.0pt">Know where to start</span></span></span></li>\n	<li><span style="color:#222222"><span style="font-family:arial\,sans-serif"><span style="font-size:11.0pt">Define your Value proposition</span></span></span></li>\n</ul>\n<span style="color:#222222"><span style="font-family:arial\,sans-serif"><span style="font-size:11.0pt">Facilitator Tom Kristoph</span></span></span>
LOCATION:Enterprise Center at Salem State University 121 Loring Avenue Salem\, MA 01970
UID:e.2981.43029
SEQUENCE:3
DTSTAMP:20260425T011310Z
URL:https://business.capeannchamber.com/events/details/starting-launching-a-business-what-you-need-to-know-43029
END:VEVENT

END:VCALENDAR
