BEGIN:VCALENDAR
VERSION:2.0
PRODID:-//ChamberMaster//Event Calendar 2.0//EN
METHOD:PUBLISH
X-PUBLISHED-TTL:P3D
REFRESH-INTERVAL:P3D
CALSCALE:GREGORIAN
BEGIN:VEVENT
DTSTART:20241228T010000Z
DTEND:20241228T033000Z
X-MICROSOFT-CDO-ALLDAYEVENT:FALSE
SUMMARY:Start Making Sense - Talking Heads Tribute
DESCRIPTION:Prepare yourself for a rockin'\, funkin'\, danceable celebration of the new-wave art punk you loved from the 80's!\n\nIf David Byrne is one of the geniuses of modern times\, then Start Making Sense is a tribute to genius. The musicians in this 7 piece Talking Heads Tribute take pride in faithfully recreating the music of Talking Heads' entire career. Together they bring much of the Heads unique live show to the stage\, with front man Jon Braun as a spot-on David Byrne\, giving you a "once in a lifetime" experience.
X-ALT-DESC;FMTTYPE=text/html:<p>Prepare yourself for a rockin&#39\;\, funkin&#39\;\, danceable celebration of the new-wave art punk you loved from the 80&#39\;s!</p>\n\n<div>If David Byrne is one of the geniuses of modern times\, then Start Making Sense is a tribute to genius. The musicians in this 7 piece Talking Heads Tribute take pride in faithfully recreating the music of Talking Heads&rsquo\; entire career. Together they bring much of the Heads unique live show to the stage\, with front man Jon Braun as a spot-on David Byrne\, giving you a &ldquo\;once in a lifetime&rdquo\; experience.</div>\n
LOCATION:The Cabot 286 Cabot Street Beverly\, MA 01915
UID:e.2981.34273
SEQUENCE:3
DTSTAMP:20260424T152539Z
URL:https://business.capeannchamber.com/events/details/start-making-sense-talking-heads-tribute-34273
END:VEVENT

END:VCALENDAR
