BEGIN:VCALENDAR
VERSION:2.0
PRODID:-//ChamberMaster//Event Calendar 2.0//EN
METHOD:PUBLISH
X-PUBLISHED-TTL:P3D
REFRESH-INTERVAL:P3D
CALSCALE:GREGORIAN
BEGIN:VEVENT
DTSTART:20220327T210000Z
DTEND:20220327T230000Z
X-MICROSOFT-CDO-ALLDAYEVENT:FALSE
SUMMARY:Stacey Kent at Shalin Liu
DESCRIPTION:A Grammy-nominated jazz singer with a sophisticated\, cosmopolitan sensibility and an intimately warm voice\, Stacey Kent returns to Rockport following the release of her most recent album\, Songs From Other Places (to be released in Fall 2021). Her previous album\, megahit I Know I Dream: The Orchestral Sessions\, has had more than 40 million streams\, received a coveted five stars in Downbeat\, and was described as "intoxicating understatement at its finest one more jewel in a discography with many\, it's one that deserves singling out for its luster" (All About Jazz).
X-ALT-DESC;FMTTYPE=text/html:<span style="color:rgb(0\, 0\, 0)\; font-family:docs-calibri\; font-size:15px">A Grammy-nominated jazz singer with a sophisticated\, cosmopolitan sensibility and an intimately warm voice\, Stacey Kent returns to Rockport following the release of her most recent album\, Songs From Other Places (to be released in Fall 2021). Her previous album\, megahit I Know I Dream: The Orchestral Sessions\, has had more than 40 million streams\, received a coveted five stars in Downbeat\, and was described as &ldquo\;intoxicating understatement at its finest&hellip\;one more jewel in a discography with many\, it&rsquo\;s one that deserves singling out for its luster&rdquo\; (All About Jazz).</span>
LOCATION:Shalin Liu Performance Center 37 Main Street Rockport\, MA 01944
UID:e.2981.21757
SEQUENCE:3
DTSTAMP:20260420T125531Z
URL:https://business.capeannchamber.com/events/details/stacey-kent-at-shalin-liu-21757
END:VEVENT

END:VCALENDAR
