BEGIN:VCALENDAR
VERSION:2.0
PRODID:-//ChamberMaster//Event Calendar 2.0//EN
METHOD:PUBLISH
X-PUBLISHED-TTL:P3D
REFRESH-INTERVAL:P3D
CALSCALE:GREGORIAN
BEGIN:VEVENT
DTSTART:20260625T223000Z
DTEND:20260626T010000Z
X-MICROSOFT-CDO-ALLDAYEVENT:FALSE
SUMMARY:St. Peter's Fiesta 5K Road Race
DESCRIPTION:Run for a Reason: Your Support Makes the Difference\n\nRun for a reason. The Y is dedicated to ensuring everyone has access to our programming and services\, from life-saving swim safety to youth development and childcare. Your registration supports this essential mission\, ensuring we can continue to help those in our community who need the Y most.\n\nThis year\, your impact goes even further. We're so excited you'll be joining us for the 2026 Glen T. MacLeod Cape Ann YMCA St. Peter's Fiesta 5K Road Race. By participating\, you're not just running a race you're strengthening the foundation of Gloucester. Your commitment ensures that vital programs remain accessible to every neighbor\, family\, and child in our community.\n\nGet your running shoes ready! Looking for the ultimate way to participate in Gloucester's annual St. Peter's Festival celebration? This family-friendly course runs from Stage Fort Park right into the heart of the celebration. With fans lining the streets to cheer you on and a finish line right at the Fiesta Carnival\, it's more than a race it's a chance to celebrate our community and run for a life-changing mission. We can't wait to see you at the starting line!
X-ALT-DESC;FMTTYPE=text/html:<h3 style="text-align:center"><span style="font-size:18px"><span style="font-family:verdana\,geneva\,sans-serif"><span style="color:rgb(184\, 49\, 47)">Run for a Reason: Your Support Makes the Difference</span></span></span></h3>\n\n<p style="text-align:center"><span style="font-family:verdana\,geneva\,sans-serif"><strong><em><span style="color:rgb(184\, 49\, 47)\; font-size:16px">Run for a reason.</span></em></strong><span style="font-size:16px"><em>&nbsp\;The Y is dedicated to ensuring everyone has access to our programming and services\, from life-saving swim safety to youth development and childcare. Your registration supports this essential mission\, ensuring we can continue to help those in our community who need the Y most.</em></span></span></p>\n\n<p style="text-align:center"><span style="font-family:verdana\,geneva\,sans-serif"><span style="font-size:16px"><strong><span style="color:rgb(184\, 49\, 47)">This year\, your impact goes even further.</span></strong></span><span style="color:rgb(184\, 49\, 47)\; font-size:16px">&nbsp\;</span><span style="font-size:16px">We&rsquo\;re so excited you&rsquo\;ll be joining us for the 2026&nbsp\;<a href="https://www.northshoreymca.org/locations/cape-ann-ymca/?selectedLocations=B549" rel="noreferrer noopener" style="box-sizing: border-box\; background-color: transparent\; color: rgb(0\, 67\, 191)\; overflow-wrap: break-word\; word-break: break-word\;" target="_blank">Glen T. MacLeod Cape Ann YMCA</a>&nbsp\;St. Peter&#39\;s Fiesta 5K Road Race. By participating\, you&rsquo\;re not just running a race&mdash\;you&rsquo\;re strengthening the foundation of Gloucester. Your commitment ensures that vital programs remain accessible to every neighbor\, family\, and child in our community.</span></span></p>\n\n<p style="text-align:center"><span style="font-family:verdana\,geneva\,sans-serif"><span style="font-size:16px">Get your running shoes ready! Looking for the ultimate way to participate in Gloucester&rsquo\;s annual St. Peter&rsquo\;s Festival celebration? This family-friendly course runs from Stage Fort Park right into the heart of the celebration. With fans lining the streets to cheer you on and a finish line right at the Fiesta Carnival\, it&rsquo\;s more than a race&mdash\;it&rsquo\;s a chance to celebrate our community and run for a life-changing mission.&nbsp\;</span><strong><span style="color:rgb(184\, 49\, 47)\; font-size:16px">We can&rsquo\;t wait to see you at the starting line!</span></strong></span></p>\n
LOCATION:Stage Fort Park\, Hough Avenue\, Gloucester\, MA\, USA
UID:e.2981.46401
SEQUENCE:3
DTSTAMP:20260424T223433Z
URL:https://business.capeannchamber.com/events/details/st-peter-s-fiesta-5k-road-race-06-25-2026-46401
END:VEVENT

END:VCALENDAR
