BEGIN:VCALENDAR
VERSION:2.0
PRODID:-//ChamberMaster//Event Calendar 2.0//EN
METHOD:PUBLISH
X-PUBLISHED-TTL:P3D
REFRESH-INTERVAL:P3D
CALSCALE:GREGORIAN
BEGIN:VEVENT
DTSTART:20260314T133000Z
DTEND:20260314T150000Z
X-MICROSOFT-CDO-ALLDAYEVENT:FALSE
SUMMARY:Square-Foot Gardening Workshop
DESCRIPTION:In this workshop\, the Backyard Growers team will introduce you to the Square-Foot Gardening Method\, which helps gardeners make the most of limited growing space to grow the most food possible for a household. We'll show you how to do this by using gridded square feet instead of rows\, including example gardens.\n\n\nYou'll work with us to create your own custom vegetable garden plan for the season.
X-ALT-DESC;FMTTYPE=text/html:<!-- wp:paragraph {"className":""} -->\n<p>In this workshop\, the Backyard Growers team will introduce you to the Square-Foot Gardening Method\, which helps gardeners make the most of limited growing space to grow the most food possible for a household. We&#39\;ll show you how to do this by using gridded square feet instead of rows\, including example gardens.</p>\n<!-- /wp:paragraph --><!-- wp:paragraph {"className":""} -->\n\n<p>You&#39\;ll work with us to create your own custom vegetable garden plan for the season.&nbsp\;</p>\n<!-- /wp:paragraph -->
LOCATION:Backyard Growers HQ 103R Maplewood Ave Gloucester\, MA 01930
UID:e.2981.46416
SEQUENCE:3
DTSTAMP:20260425T123700Z
URL:https://business.capeannchamber.com/events/details/square-foot-gardening-workshop-03-14-2026-46416
END:VEVENT

END:VCALENDAR
