BEGIN:VCALENDAR
VERSION:2.0
PRODID:-//ChamberMaster//Event Calendar 2.0//EN
METHOD:PUBLISH
X-PUBLISHED-TTL:P3D
REFRESH-INTERVAL:P3D
CALSCALE:GREGORIAN
BEGIN:VEVENT
DTSTART:20241208T140000Z
DTEND:20241208T220000Z
X-MICROSOFT-CDO-ALLDAYEVENT:FALSE
SUMMARY:Spoon Carving Workshop-David Calvo
DESCRIPTION:Have fun making a creative wooden spoon from start to finish and learn wood working skills to take home and make many more for your collection.
X-ALT-DESC;FMTTYPE=text/html:<span style="font-size:18px\;"><span style="font-family:verdana\;">Have fun making a creative wooden spoon from start to finish and learn wood working skills to take home and make many more for your collection.</span></span>
LOCATION:David Calvo Studio
UID:e.2981.34240
SEQUENCE:3
DTSTAMP:20260424T152506Z
URL:https://business.capeannchamber.com/events/details/spoon-carving-workshop-david-calvo-34240
END:VEVENT

END:VCALENDAR
