BEGIN:VCALENDAR
VERSION:2.0
PRODID:-//ChamberMaster//Event Calendar 2.0//EN
METHOD:PUBLISH
X-PUBLISHED-TTL:P3D
REFRESH-INTERVAL:P3D
CALSCALE:GREGORIAN
BEGIN:VEVENT
DTSTART:20221027T230000Z
DTEND:20221028T010000Z
X-MICROSOFT-CDO-ALLDAYEVENT:FALSE
SUMMARY:Spiritualism Tours by Candlelight at Hammond Castle Museum
DESCRIPTION:Hammond Castle Museum is pleased to present Spiritualism Tours on select Thursday evenings in October. Delve into the history of the American Spiritualism Movement and the culture that formed around it\, as well as the contributions of both Hammonds. Guides will discuss cultural phenomena such as spirit photography and s ances as well as the more scientific aspects of the movement such as Hammond's research in ESP. \n\nTickets are $20 each.
X-ALT-DESC;FMTTYPE=text/html:<span style="font-size:14px"><span style="color:rgb(32\, 32\, 32)\; font-family:helvetica">Hammond</span><span style="color:rgb(32\, 32\, 32)\; font-family:helvetica">&nbsp\;</span><span style="color:rgb(32\, 32\, 32)\; font-family:helvetica">Castle</span><span style="color:rgb(32\, 32\, 32)\; font-family:helvetica">&nbsp\;</span><span style="color:rgb(32\, 32\, 32)\; font-family:helvetica">Museum</span><span style="color:rgb(32\, 32\, 32)\; font-family:helvetica">&nbsp\;is pleased to present&nbsp\;</span>Spiritualism Tours on select Thursday evenings in October.<span style="color:rgb(32\, 32\, 32)\; font-family:helvetica">&nbsp\;Delve into the history of the American Spiritualism Movement and the culture that formed around it\, as well as the contributions of both Hammonds. Guides will discuss cultural phenomena such as spirit photography and s&eacute\;ances as well as the more scientific aspects of the movement such as&nbsp\;</span><span style="color:rgb(32\, 32\, 32)\; font-family:helvetica">Hammond</span><span style="color:rgb(32\, 32\, 32)\; font-family:helvetica">&rsquo\;s research in ESP.&nbsp\;</span><br />\n<span style="color:rgb(32\, 32\, 32)\; font-family:helvetica">Tickets are $20 each.&nbsp\;</span></span><span style="color:rgb(0\, 0\, 0)\; font-family:open sans\,sans-serif">&nbsp\;</span>
LOCATION:Hammond Castle Museum 80 Hesperus Avenue Gloucester\, MA
UID:e.2981.23151
SEQUENCE:3
DTSTAMP:20260424T141257Z
URL:https://business.capeannchamber.com/events/details/spiritualism-tours-by-candlelight-at-hammond-castle-museum-10-27-2022-23151
END:VEVENT

END:VCALENDAR
