BEGIN:VCALENDAR
VERSION:2.0
PRODID:-//ChamberMaster//Event Calendar 2.0//EN
METHOD:PUBLISH
X-PUBLISHED-TTL:P3D
REFRESH-INTERVAL:P3D
CALSCALE:GREGORIAN
BEGIN:VEVENT
DTSTART:20251018T140000Z
DTEND:20251018T190000Z
X-MICROSOFT-CDO-ALLDAYEVENT:FALSE
SUMMARY:Spiran Hall Community Rummage Sale
DESCRIPTION:Spiran Lodge is hosting a community Rummage Sale (October 17-19) to raise funds for Spiran Hall during the weekend of the Rockport Harvest Festival. Starting Friday evening 17th October and running through Sunday 19th October. Coffee\, nisu and other nordic pastries will be available. Come and enjoy browsing for the perfect item you have been seeking.
X-ALT-DESC;FMTTYPE=text/html:Spiran Lodge is hosting a community Rummage Sale (October 17-19) to raise funds for Spiran Hall during the weekend of the Rockport Harvest Festival. Starting Friday evening&nbsp\;17th October and running through Sunday 19th October. Coffee\, nisu and other nordic pastries will be available. Come and enjoy browsing for the perfect item you have been seeking.
LOCATION:Spiran Hall is located on the corner of Broadway & School St in Rockport.
UID:e.2981.45166
SEQUENCE:3
DTSTAMP:20260425T024040Z
URL:https://business.capeannchamber.com/events/details/spiran-hall-community-rummage-sale-45166
END:VEVENT

END:VCALENDAR
