BEGIN:VCALENDAR
VERSION:2.0
PRODID:-//ChamberMaster//Event Calendar 2.0//EN
METHOD:PUBLISH
X-PUBLISHED-TTL:P3D
REFRESH-INTERVAL:P3D
CALSCALE:GREGORIAN
BEGIN:VEVENT
DTSTART:20250920T190000Z
DTEND:20250920T203000Z
X-MICROSOFT-CDO-ALLDAYEVENT:FALSE
SUMMARY:Somatic Reset: Release and Rewire
DESCRIPTION:Somatics is a gentle\, mindful movement practice that focuses on your internal felt experience-- what it feels like to move from the inside. These movements are often small\, subtle and designed to release chronic holding patterns and increase functional movement.\n\n\n\nThe emphasis on not achieving a specific pose but on sensing\, noticing and resetting patterns of tension in the nervous system and muscles. This workshop is designed to introduce somatic movements that will help improve mobility and flexibility as well as reduce pain and tension (frozen shoulder\, sciatica\, tight low back and hips) and enhances athletic performance for everyone- golf\, pickleball\, swim\, etc.\n\n\n\nBring a notebook and pen\, Q&A included to recap if you want notes for your home practice.
X-ALT-DESC;FMTTYPE=text/html:<span style="color:rgb(47\, 51\, 52)\; font-family:tt norms pro\,-apple-system\,blinkmacsystemfont\,segoe ui\,helvetica neue\,arial\,sans-serif\,apple color emoji\,segoe ui emoji\,segoe ui symbol\; font-size:16px">Somatics is a gentle\, mindful movement practice that focuses on your internal felt experience-- what it feels like to move from the inside. These movements are often small\, subtle and designed to release chronic holding patterns and increase functional movement.<br />\n<br />\nThe emphasis on not achieving a specific pose but on sensing\, noticing and resetting patterns of tension in the nervous system and muscles. This workshop is designed to introduce somatic movements that will help improve mobility and flexibility as well as reduce pain and tension (frozen shoulder\, sciatica\, tight low back and hips) and enhances athletic performance for everyone- golf\, pickleball\, swim\, etc.<br />\n<br />\nBring a notebook and pen\, Q&amp\;A included to recap if you want notes for your home practice.</span>
LOCATION:Treetop Yoga 3A Pond Road Gloucester\, MA 01930
UID:e.2981.42861
SEQUENCE:3
DTSTAMP:20260422T091545Z
URL:https://business.capeannchamber.com/events/details/somatic-reset-release-and-rewire-09-20-2025-42861
END:VEVENT

END:VCALENDAR
