BEGIN:VCALENDAR
VERSION:2.0
PRODID:-//ChamberMaster//Event Calendar 2.0//EN
METHOD:PUBLISH
X-PUBLISHED-TTL:P3D
REFRESH-INTERVAL:P3D
CALSCALE:GREGORIAN
BEGIN:VEVENT
DTSTART:20250110T000000Z
DTEND:20250110T020000Z
X-MICROSOFT-CDO-ALLDAYEVENT:FALSE
SUMMARY:Soggy Po Boys
DESCRIPTION:The Soggy Po Boys spread the good news of New Orleans music across the northeast and beyond\, playing at concert halls and street corners\; music festivals and burlesque festivals\; bars and libraries\; wherever the party requires.
X-ALT-DESC;FMTTYPE=text/html:<span style="font-size:16px"><span style="background-color:rgb(250\, 250\, 250)\; color:rgb(0\, 0\, 0)\; font-family:open sans\,helvetica neue\,helvetica\,arial\,sans-serif">The Soggy Po Boys spread the good news of New Orleans music across the northeast and beyond\, playing at concert halls and street corners\; music festivals and burlesque festivals\; bars and libraries\; wherever the party requires.</span></span>
LOCATION:37 Main St\, Rockport\, MA 01966
UID:e.2981.33216
SEQUENCE:3
DTSTAMP:20260424T164639Z
URL:https://business.capeannchamber.com/events/details/soggy-po-boys-33216
END:VEVENT

END:VCALENDAR
