BEGIN:VCALENDAR
VERSION:2.0
PRODID:-//ChamberMaster//Event Calendar 2.0//EN
METHOD:PUBLISH
X-PUBLISHED-TTL:P3D
REFRESH-INTERVAL:P3D
CALSCALE:GREGORIAN
BEGIN:VEVENT
DTSTART:20241205T151500Z
DTEND:20241205T171500Z
X-MICROSOFT-CDO-ALLDAYEVENT:FALSE
SUMMARY:Sketch The Halls- Sketch Class with Sue Wheeler at Hammond Castle Museum
DESCRIPTION:Sketch the halls during our Deck the Halls Holiday Celebration! Delight in the enchanting ambiance of White Birch & Christmas trees\, meticulously arranged garlands\, and festive wreaths\, and lose yourself in your artistic flair as you sketch the interior of the Museum with Sue! Immerse yourself in a bygone era of opulent tranquility and holiday grandeur that promises to be unlike any other experience on the North Shore in this unique opportunity.\n\n\n\nFrom stick figure doodlers to first-rate talents\, join us for sketch class with Sue Wheeler of Arts Abound in Magnolia. All skill levels are welcome! This two-hour session includes a 30-minute beginner sketch lesson. All you need to bring is a sketchbook\, pencils and an eraser.  Please note: watercolors\, pastels\, oils\, or acrylics are not permitted inside the Museum or anywhere on the grounds.
X-ALT-DESC;FMTTYPE=text/html:<span style="background-color:rgb(255\, 255\, 255)\; color:rgb(24\, 24\, 24)\; font-family:-apple-system\,blinkmacsystemfont\,segoe ui\,roboto\,helvetica\,arial\,sans-serif\,apple color emoji\,segoe ui emoji\,segoe ui symbol\; font-size:14px">Sketch the halls during our Deck the Halls Holiday Celebration! Delight in the enchanting ambiance of White Birch &amp\; Christmas trees\, meticulously arranged garlands\, and festive wreaths\, and lose yourself in your artistic flair as you sketch the interior of the Museum with Sue! Immerse yourself in a bygone era of opulent tranquility and holiday grandeur that promises to be unlike any other experience on the North Shore in this unique opportunity.</span><br />\n<br />\n<span style="background-color:rgb(255\, 255\, 255)\; color:rgb(24\, 24\, 24)\; font-family:-apple-system\,blinkmacsystemfont\,segoe ui\,roboto\,helvetica\,arial\,sans-serif\,apple color emoji\,segoe ui emoji\,segoe ui symbol\; font-size:14px">From stick figure doodlers to first-rate talents\, join us for sketch class with Sue Wheeler of Arts Abound in Magnolia. All skill levels are welcome! This two-hour session includes a 30-minute beginner sketch lesson. All you need to bring is a sketchbook\, pencils and an eraser.&nbsp\; Please note: watercolors\, pastels\, oils\, or acrylics are not permitted inside the Museum or anywhere on the grounds.</span>
LOCATION:Hammond Castle Museum 80 Hesperus Avenue Gloucester\, MA 01930
UID:e.2981.34214
SEQUENCE:3
DTSTAMP:20260424T152813Z
URL:https://business.capeannchamber.com/events/details/sketch-the-halls-sketch-class-with-sue-wheeler-at-hammond-castle-museum-34214
END:VEVENT

END:VCALENDAR
