BEGIN:VCALENDAR
VERSION:2.0
PRODID:-//ChamberMaster//Event Calendar 2.0//EN
METHOD:PUBLISH
X-PUBLISHED-TTL:P3D
REFRESH-INTERVAL:P3D
CALSCALE:GREGORIAN
BEGIN:VEVENT
DTSTART;VALUE=DATE:20250710
DTEND;VALUE=DATE:20250804
TRANSP:TRANSPARENT
X-MICROSOFT-CDO-ALLDAYEVENT:TRUE
SUMMARY:Six Ways of Seeing the World
DESCRIPTION:Curated by Gabrielle Rossmer\n\nExhibit Dates: July 10   August 3\n\nArtist Talk: Thursday\, July 31\, 5-7pm\n\nFeatured Artists: Kathy Archer\, Paul Cary Goldberg\, Donald Gropman\, Sonya Gropman\, Gabrielle Rossmer\, and Constance Vallis \n\n\n\nIn a time marked by uncertainty and transformation\, six artists come together to explore how art can serve as both personal expression and cultural reflection. Six Ways of Seeing the World\, curated by Gabrielle Rossmer\, offers a compelling look at how visual art helps us process\, respond to\, and shape our understanding of the contemporary world.\n\nThrough diverse media painting\, photography\, sculpture\, drawing\, and collage these six artists examine the intersections of inner life and external forces. While their approaches and mediums vary\, they share a commitment to introspection\, craft\, and a meaningful engagement with today's fractured landscape.\n\nTogether\, these artists demonstrate six unique but interconnected ways of seeing. Their works push the boundaries of their chosen media\, reflecting on today's world with vulnerability\, insight\, and artistic rigor.
X-ALT-DESC;FMTTYPE=text/html:<p><span style="font-size:12px"><span style="font-family:arial\,helvetica\,sans-serif"><strong>Curated by Gabrielle Rossmer</strong><br />\nExhibit Dates: July 10 &ndash\; August 3<br />\n<span style="color:rgb(20\, 24\, 39)">Artist Talk: Thursday\, July 31\, 5-7pm</span></span></span><br />\n<span style="font-family:arial\,helvetica\,sans-serif\; font-size:12px">Featured Artists: Kathy Archer\, Paul Cary Goldberg\, Donald Gropman\, Sonya Gropman\, Gabrielle Rossmer\, and Constance Vallis&nbsp\;</span><br />\n<br />\n<span style="font-size:12px"><span style="font-family:arial\,helvetica\,sans-serif">In a time marked by uncertainty and transformation\, six artists come together to explore how art can serve as both personal expression and cultural reflection.&nbsp\;<em>Six Ways of Seeing the World</em>\, curated by Gabrielle Rossmer\, offers a compelling look at how visual art helps us process\, respond to\, and shape our understanding of the contemporary world.</span></span></p>\n\n<p><span style="font-size:12px"><span style="font-family:arial\,helvetica\,sans-serif">Through diverse media&mdash\;painting\, photography\, sculpture\, drawing\, and collage&mdash\;these six artists examine the intersections of inner life and external forces. While their approaches and mediums vary\, they share a commitment to introspection\, craft\, and a meaningful engagement with today&rsquo\;s fractured landscape.</span></span></p>\n\n<p><span style="font-size:12px"><span style="font-family:arial\,helvetica\,sans-serif">Together\, these artists demonstrate six unique but interconnected ways of seeing. Their works push the boundaries of their chosen media\, reflecting on today&rsquo\;s world with vulnerability\, insight\, and artistic rigor.</span></span></p>\n
LOCATION:Cove Gallery 37 Rocky Neck Avenue\, Gloucester
UID:e.2981.37425
SEQUENCE:3
DTSTAMP:20260424T235751Z
URL:https://business.capeannchamber.com/events/details/six-ways-of-seeing-the-world-37425
END:VEVENT

END:VCALENDAR
