BEGIN:VCALENDAR
VERSION:2.0
PRODID:-//ChamberMaster//Event Calendar 2.0//EN
METHOD:PUBLISH
X-PUBLISHED-TTL:P3D
REFRESH-INTERVAL:P3D
CALSCALE:GREGORIAN
BEGIN:VEVENT
DTSTART:20221030T190000Z
DTEND:20221030T203000Z
X-MICROSOFT-CDO-ALLDAYEVENT:FALSE
SUMMARY:SILENT MOVIES WITH LIVE ACCOMPANIMENT BY KEYBOARD ARTIST JEFF RAPSIS
DESCRIPTION:Bring the whole family to the Gloucester Meetinghouse at the corner of Church and Middle Streets on Sunday\, October 30 at 3:00 p.m. for an entertaining afternoon of classic silent movies with live keyboard accompaniment by Jeff Rapsis.\n\n\n\nBefore elaborate soundtracks and before actors spoke in films\, keyboard artists entertained audiences with their live improvised musical accompaniment to follow a film's storyline. Children and adults of all ages will be delighted with the musical interpretation of keyboard artist Jeff Rapsis as he infuses new life into three works from the early era of cinematic history. Rapsis has entertained audiences of all ages across New England with his fresh interpretation of this lost technique. The three films were selected for their wide appeal featuring non-stop action and knee-slapping comedy routines. Presented on a large screen with live keyboard accompaniment\, the afternoon of silent films offers a unique artform and an unforgettable experience for all.\n\n\n\nTickets are available online at www.gloucestermeetinghouse.org or at the door. General seating $15\; students with ID $5\; children under 12 free.
X-ALT-DESC;FMTTYPE=text/html:<strong>Bring the whole family to the Gloucester Meetinghouse at the corner of Church and Middle Streets on Sunday\, October 30 at 3:00 p.m. for an entertaining afternoon of classic silent movies with live keyboard accompaniment by Jeff Rapsis.</strong><br />\n<br />\nBefore elaborate soundtracks and before actors spoke in films\, keyboard artists entertained audiences with their live improvised musical accompaniment to follow a film&#39\;s storyline. Children and adults of all ages will be delighted with the musical interpretation of keyboard artist Jeff Rapsis as he infuses new life into three works from the early era of cinematic history. Rapsis has entertained audiences of all ages across New England with his fresh interpretation of this lost technique. The three films were selected for their wide appeal featuring non-stop action and knee-slapping comedy routines. Presented on a large screen with live keyboard accompaniment\, the afternoon of silent films offers a unique artform and an unforgettable experience for all.<br />\n<br />\nTickets are available online at www.gloucestermeetinghouse.org or at the door. General seating $15\; students with ID $5\; children under 12 free.<br />\n&nbsp\;
LOCATION:The Gloucester Meetinghouse corner of Church and Middle Streets in Gloucester.
UID:e.2981.23079
SEQUENCE:3
DTSTAMP:20260424T124229Z
URL:https://business.capeannchamber.com/events/details/silent-movies-with-live-accompaniment-by-keyboard-artist-jeff-rapsis-23079
END:VEVENT

END:VCALENDAR
