BEGIN:VCALENDAR
VERSION:2.0
PRODID:-//ChamberMaster//Event Calendar 2.0//EN
METHOD:PUBLISH
X-PUBLISHED-TTL:P3D
REFRESH-INTERVAL:P3D
CALSCALE:GREGORIAN
BEGIN:VEVENT
DTSTART:20221007T000000Z
DTEND:20221007T020000Z
X-MICROSOFT-CDO-ALLDAYEVENT:FALSE
SUMMARY:Shawn Colvin at Shalin Liu
DESCRIPTION:The beloved three-time Grammy-winning singer-songwriter Shawn Colvin returns to Rockport for an intimate solo concert that will include songs from her lengthy catalog\, including hits like the smash single "Sunny Came Home."
X-ALT-DESC;FMTTYPE=text/html:<span style="background-color:rgb(250\, 250\, 250)\; color:rgb(0\, 0\, 0)\; font-family:open sans\,helvetica neue\,helvetica\,arial\,sans-serif\; font-size:18px">The beloved three-time Grammy-winning singer-songwriter Shawn Colvin returns to Rockport for an intimate solo concert that will include songs from her lengthy catalog\, including hits like the smash single &quot\;Sunny Came Home.&quot\;</span>
LOCATION:37 Main Street\, Rockport MA\, 01966
UID:e.2981.22937
SEQUENCE:3
DTSTAMP:20260424T123521Z
URL:https://business.capeannchamber.com/events/details/shawn-colvin-at-shalin-liu-22937
END:VEVENT

END:VCALENDAR
